Package: sequencing Version: 1.33.0 Command: /Library/Frameworks/R.framework/Resources/bin/R CMD INSTALL sequencing StartedAt: 2025-10-21 13:00:25 -0400 (Tue, 21 Oct 2025) EndedAt: 2025-10-21 13:00:50 -0400 (Tue, 21 Oct 2025) EllapsedTime: 24.2 seconds RetCode: 0 Status: OK