Package: sequencing Version: 1.33.0 Command: /Library/Frameworks/R.framework/Resources/bin/R CMD build --keep-empty-dirs --no-resave-data sequencing StartedAt: 2025-10-21 13:09:55 -0400 (Tue, 21 Oct 2025) EndedAt: 2025-10-21 13:11:07 -0400 (Tue, 21 Oct 2025) EllapsedTime: 71.6 seconds RetCode: 0 Status: OK PackageFile: sequencing_1.33.0.tar.gz PackageFileSize: 403.4 KiB