Package: rnaseqGene Version: 1.33.0 Command: /home/biocbuild/bbs-3.22-bioc/R/bin/R CMD INSTALL rnaseqGene StartedAt: 2025-10-21 13:00:21 -0400 (Tue, 21 Oct 2025) EndedAt: 2025-10-21 13:01:05 -0400 (Tue, 21 Oct 2025) EllapsedTime: 44.1 seconds RetCode: 0 Status: OK