Package: rnaseqGene Version: 1.33.0 Command: /home/biocbuild/bbs-3.22-bioc/R/bin/R CMD build --keep-empty-dirs --no-resave-data rnaseqGene StartedAt: 2025-10-21 13:10:06 -0400 (Tue, 21 Oct 2025) EndedAt: 2025-10-21 13:13:05 -0400 (Tue, 21 Oct 2025) EllapsedTime: 178.8 seconds RetCode: 0 Status: OK PackageFile: rnaseqGene_1.33.0.tar.gz PackageFileSize: 1.551 MiB