Package: rnaseqDTU Version: 1.29.0 Command: /home/biocbuild/bbs-3.22-bioc/R/bin/R CMD build --keep-empty-dirs --no-resave-data rnaseqDTU StartedAt: 2025-10-07 13:09:39 -0400 (Tue, 07 Oct 2025) EndedAt: 2025-10-07 13:11:55 -0400 (Tue, 07 Oct 2025) EllapsedTime: 136.1 seconds RetCode: 0 Status: OK PackageFile: rnaseqDTU_1.29.0.tar.gz PackageFileSize: 8.743 MiB