]nʒSNQ\%I xI s3AK-!8>c̼}&Z, H,T7{m:lfuAA] $^eoq57wտ`sYl{_{(e"Y;8uPzMz-5,3ܱ:w::2$_%YzCjv|?/{)~xzrDvtn7dȍꖩvI#ם#(q}߾j)# r(7pgV;8?g~ڢ3~iYKMu4M}iGP[{ě~֣C!|&C&uD$NI_mgjw?2I4?rOO/M}23mM_+$.u;&~O q~O>oA'^_ O^O{ohyo[C{t_D~"wZ޶@%zP+w>^ܛ*1D&`*Q&>vfό~iB]ĵ\}?PPwc ^t1nO7#݁7Qs=5tRE%-Q!BGx'n7ϭ39tWjо7^}f9)7uüs&}x]/A9.Em#ėtrp?c$zp1:LLCKN̡I&{.6>? WВwSӝ_D}/7_v)ߒVsof'jΠFX~[+ob4_*~)1҄=[П9~krm6}ч]8yſ`}ٹa?wmGwWɥ!@Ag& #COd0#dlٔD!G%Γ1yG{DoȊ'vҚ_}:qZ9 gZ\\LL>^If8!"C31FTPۛ|%& [o٦P8U.A2qM1=ebi0"x;XLH! 2_f?- x[" u-#iֶvm4i^Oͤh.!@^ϽϬ@kJtUjOvlɌsio)d/™UϦ<+N٥Du~3smjgdY5ޤgo(T9Á8cqwaY.9lƼH^wo逢 sLZF;B߁^~iw+2PpMXwWױוAPA[G1*ՙtqE]=đPMqdͼ>7h5> ݱv:ܩ3,˘(Ylw7a5[SZ 4A!J.sA zp fMpo٣7&#rG3!.HH٭I ooir5Jw Jxf E2l 5fk??{ǿi@ 4'2ށ:j(ЬDuhLP㜟ļ_.[I]˄e4"9ZՕ;ubeNَ%6C.̭A!&&qn% [Ȟa˶9ge:7?34 9,7#KL-YL]߮Bo3ц#&Laqo Nj9u;?aM@8 [CְÎ qS_Te_x| SOCelzRQc86a+dEդ끟%ޞz:H|7_@^g?AÊ_?lm$0|5}@m1 7 ׋j׋K7DUi +Ǹ\f N@O`\XGG~`_Ȼp3*`k:Kn :QU?:Ъ g΄SW h[oBp@x~>G/S̬k\h5]9FZ#NJb*fr5UҲjFP VR(?C`9y_`V-ݧ@bZlvi?ikZ!RX@_%D t[8xw3L!pSJR{ 蚇>o3I{~i܇̋NT˹bud?IVp*vU_\uRi=-8P; f`E{Վ_ɳdgI_/1}bƬpD#ύk]s{M57 hJ-79; =h=P>( «tIPRȂa,GOҀ5|w}ypjh{J wJ5WJg~ZK`*G /l/iVA`ճqO+9bZ%ڿژ>ZӾu  T Uc^Gw2})?tߕD:h_! *_ S彼BEnoH{D 9O_^aQ}qZzVeq P%_eP*Bꐀ>Tz-sJ"@`GiTM"6=d2_Ѣl_< H1K;_1+f쯘bP_1+~}e_qf;rbkNxO^Qd8nqf5_-5b_w"krؘP& ysƷ2`5K0| ×6ybg}kB/UG&/.B;{P?#?U9a Ow:vV#X}(Yէcs11Lba4FPZ(zVebGL%<0T(|#?B#&_a<_];tvaƏ0$ͬ<#yR7{g/[Eyj確VBkᯫ*[u `Mꠝ})%КɈjXj5R`A}[㈚Ջz_xʝVqp2@cG9Q~&vp ܠ?WaO1 lLϝ'Uyy.*t +rBJuZ2L#J%#UR!U˹ud/ؑ렊]@ƶ0XsK90Xb+/ئ|9,/J9/(kEQ! *T lZ\@@`*ri$? G*+ڻ8 r-q*/u)\F?_uP_5 *_ ,5"{/(?NZ"PžY#*B$T+.3,*@:Tz-sJ"@` )vE (+? C9?gўpnƚn n%cf!%24byuHdRUJW*_KK V1*fUC7 䑬mԊ6RF*ڈEHq4m #j?b&? Z3E*ln-uO&=Vů|GY+FI!˚䟫,P@UPjmi+/Vϗ/?[ V\s W]Fɧ;:@D&Ce22X;V@W7x"{ŬV|mE)(ee2a (Zfvep|n~"Tvv4~>Ϊ@P#Y_q{璿=?ڧ9m׿p&f ޯ0_x@?NNgV:SvQ:wjcozq6+gᾭn^Cso}XVUV=uQN҇?E\z"`2l47?4jx jk8@'5XQZuT_>~:\ S S52sBQ?nVCz9QckJml310yH~nV[ #vMbd{_z67cQ6ӈuU~ʯT_ϯl֏Uƃ_"Z㓪g+Ğ7 n~q@i ~ypWUc|Fw7\v@wWi80 ~sq=kR~y[J6xw*\Ez^unfA3qQXךGǕBUx{z~g̻=SmnF`?/b1_>ɬ|0RMe7EV>,eZ>+aE`㪈ʇMi EM>|\j,cEJ7^z}Crsp7߫\h)hTꟕgYVꟕgn?7*J ?cծyZHO]BHs]]4z+7gH-S)Vʟ' 5;+Y]]4@_M]QZ(UJ&==ecW=;UCW*_'#+gteMgϦT?MP1~[Iyv؛Iֽ06˺N+%+jT\UvRz*[w@SeV6US*_eUwWUm/_U Iݺs߾z?:ZUeo]nO-8uU-*.@x珞z$PyJI}s6_V?$5jyBفUJW*_?67n)u*ZWEѺ]r ]ZF*HE9a҈8|ZrhfHE1Fy+EKCˆY뗾CEOͭYtco;vi1SxOdWUvU١*;Tekah i+%Z I1y˷JJH'Mh| Ĥepg'oO{3ك}Ť=eҴ KEhm姥6&Xz^nu;ZS׿4]mԜW|Zs9#W;)ޥd@R}QՈ_^o[}k[=X.M??i)-.ymK.|h, Eݟ>Q>0A$3Xʿ|I}U gy$Qt?f<\~n§hl wc]kʠT74 [kڨmv%bbju_پ-GVcq^<v%?͓z56_v؛@߱WlN~\l,|h1BQ"V끌ŗ%s)#}~i/%@?m:b屹"`? vvv@(=h8JOҁx.VuX$"cqׇ4sm=f[dNF<ġU 9J<\RI*&-V(,dCcx#ӨV]_W%vؿZؿgM~^a/x+ x~a_DW:{_YXy?h`狻]ck&ؕ)6sGf_pf;/ή< \q꺵FӡNSoyxs 882Iv=BU&W/z[yיLp,\kͣtpU)*TYkUJW _9ۓ}So:Ǜ*oyu-D'/ NY͢&ͲKݏ$V$s?~\ǥ 2=g?~e5rC”ؽݺTSٶ敘zlRuT_/UeShR~zT_jwj?ŋwzæw2nTuyڻWz<Kbf0;.f`jJ* UʊBYQ(+ 埰* I|}$gK 1qN w~V)rTS*O? ѳbU ` 6ltxFLAI%"Nj-V@ir _ ~U T17| 1hgԽA;bAk-S3H[RJj5Kߩ{#A̵7jU°0졅a_O[gOW?OXy*GR?*GbJ~T܏Q4kS<*?[}XWW-F_xoXZ?Bƹ"K y!}_ןឞnj4ӊaCZuE]Q?*GE~`)B*Z]_wxHo>E5*ٻUԢH-dʯF!ÈV1CTQQ\"_#⻯ղnj.Ƽ;_?==n_a6|}?sʏXnO,,Ižm߾CWo]گ[)KoyO~-ϥl +%ϷtSk*M\6>U #yʢIl̎pO{1cס~e̔a.m3C^b?]nv˶Y}삇Q m'; 6?73>]@mk.x|NnAC^!̔6K|:LdﰒFZ[^u~Hۖ?tV>A~gZh;2)q7>vGg%GOM >A6~FȔ!puh?p,OmWm`6 ;>WBpV~jez̼-B }Ə6M^D]o?[}.Xéݯ1mګSVm_g7&ݟ|o  ޵/Z̿j˧6} ~`-,,̶M%㵿k_M1Afs[G=MZ<IO>UW)YkjW~+oxJ5I\x 3DMU7<sw.6xG+e)rsf%Ɖu~Ɖ~oжݻ$wUߐqUm* r߶}{Ǭ̪m|uU$; mZ-6 r`G&_8e=5|{rja3:x-Uq?^SPe*2~RZ{ε^p}xd??*Hwvi9Ϡ;c^RY `s9"3rhP}Kow=R+[Zfg+p&\y'(&ˏH$GL *c١fŏ?m߷LD|d(_fr;7ݏPW _nQVv0^iWogQ:wjcoiV< meΖه؇g_k??¥ϝ9{Mt>ra}ryW> 4{Ǎ/.pSsKYqp-TW?9,2[;=!';^ |ؔ\XǥN2.i>~eСH߱{;'@^O;SVꯕkZVꯕUݔ_+J~U}hV#%^ut"u5#͕ލ3=_MZ)ʯdDi/ںCvgVvҀ}5ugiug,U2o)f;&mVOV?$_$UW*_?m_W_+@UߟP}lj@?7g 1`gO`]L5@[1J Z5:PjJEhX{]ՄuT+D_U+OUW*_UW*{U'$w}޲{E3k8;ڔa9(Mg>]Im .FC6c}xc)B85u}D]<S|Hǐqk''rҨ5N^^8ؘlDGu ud0 !9/HkyD ܾbU@8<eAdOw*k st\{^ŪRCE^>U ql,#.E4Q"z%^ a@8_rD>ok/pCh@#a%lZȄ?"Hh&/*TLc DGdSB@&%pD2_]{d~ <"*#rmjE_f_c5b6P#̦hc\`>a8L. ~  ,!ٮ8\|OZ#Veu&Է- Ǎ:b>o/VS#2nu4ayե ME/xM L [i ˤ_R2'@1E4`*|yFQ;OTDc 7I RMM '68@0o»KDٸPj`b1"DcRJth ?@`0HvXNV@'9v }EO P-֓F9?8Y݌][}6b1!5ueH#&g GbHe U| n`+#0ݼ escH꽑I!a-275g H̲ɒR ^9MФ>bFmV?] 7vx*ݮq6S+PiNs_x`$mXvʛ<_]B6"TV6bqdlxd!!teD"MyR YR@$99ɚy zSs >Hk>@ݻ@`QQ|[w޵ioEo x::7 !inuUWu JO֐}rf@}?Cd@#u}AXڮ CaF  !`(@GѭO/]npIjO=tfAhFkidӓ@fB9!;Ѐ#HgT~#ȹK%VF45ǰ=Kj$&K(o&rj6xXiQi.fVִ4Sx: ] M!B9>Z?(`5\eHCnߍq@bUBF#!ȨFX#+qT@@MR6j~Q/-4%B xj)<"O3.!GdS7>P}[Rl"C$mLWՑ!]IL) ( @$ J ]I ת/~gKL"hXbblj032 N YȻf:kՙܾݮRiËae &9/AŮIgh A:=:Dtt͗0XBْxY4ɨ@r cHJ p^m% ݀H6cV[@f}E@j4耸[.p#i-d"me=B\5Z|WpcRCwHӐe9"FDn-FϳY4{HatZ _SNI+G62H*\$,F!Ù`K CNggY2؈͝E hXU#QAҸ qȒ* )4`kPFs䌍|Z`RDFº$g|Z%BA#r#Ҁ"FNNzVBI9"ɊCBvSsֺ` m1%|pj]ˑ#y;KFm'(bqޗ*5I %Ձf⬚7'6Eɺ 4p#7徰N2zr3\1:S mdtYk(4d( R`r]k0̎AwBQhH-DhHQb`@o5tڬg Fv#ʀ<;V'lۅM [LE e 퉧#lخQt)Lj8b!M {d15Rc.32  M#YФj8Pc"( 5d@\~= Hݑ'Z}`\#gVȰdƳXwrExĻ/@ iT="T1ISLj z4`ę7 px$K xvD>@e}&gEaթ: >Yh_呂#o3ofk6\賓rJ X<45"(DXۘK p8H-Al Bu ESb:E]c2S6ʇrDEO1l tDOXHrے0[D:!&7r8qPAq${*g肵H6Hwů[k9ZdxD姚Ѥ@TJiK( ҟdM9*\{1W 4 tLt5B#F t14G(qp qR ^zjDk@Nu2h\tpWA{tk K<69"՗.szZY#T"H Y"}N"+k Sዱ F@1y?ϐNZ#C`3r!+.%21:Dq:$+Э'dUi"*R9#Y[έi]Gz F>x̓Bip򳀅WI.IچkL H[튭F2E`i*4f>@U02jB_b uȏpL΋#>J4wE 68/u+L&T `iȬx9"/}k$.=(EȌ[G!S.|CWjj,ɱ0 mAvYTJ;ny[2h2& (B R׎WwM3U0ϩ^IDn`dTQ/f9" gmԛ$ʳ$JبD ]Shǃ6o19zt14@KXH$&A'$r~X3<}LΕ M"hHKlr_+@~z+@Y wCMe&- eYFK@uu8 ga>ʞb=% rD1 F&c A ~ѠOcP̺Կ)DzĞ%ChJx;#խ.Xq`ہqt"Z}jON$s&ٛI `>*.BWp6Z 9Ɩ/kH+~<K.Kl9@)#ld5H͘/Xjwޠƀ4䮩a g˓<}m۵QޱrZ}M7"?o>pkl1 DݺjcD:YM 8h H¥@Ojc@N5VE]zҴLq^L/4/TebUX,I Dz_ H1;h85@MơhWKO[#u 4@J9"N Gd~,H2}iFIl DX Hؿbvlt :Y5 fO=Fɺ >J 6Fۊrb2ݯm?T0>2-,kd ir%&Q*):DvHP~ H=*+1R@E#A8r_E,>|~p.؞;LI6u$K 5 -o"@F4ȮnsC1 o#_qFk ($!&c$<,8SI ^$Wa(l-p5Yuh]V3of* nu>3 q$^#īR{&V5?"ᫎ :iDU4njiNb_owMungԝh.1.,Nؔ¶pī9} P L$x&;q} q;O6A o$,GDWې@0H4$*0ۭ~wl Zm3A^7K^B(ijFĶ$CX1@R(ienM<\!#=>Җ@D;@p=lZN]#`1\#}W+ϺaʃB Ssֺ9"`őK @] $MҤʄ@^dSs[hH; bV*j# hͧ(9D:"Χy턍q#rbȀ4/#f7'Ig=r7%$dT3FI|{ƮqyķϮ[Ն1@Z5(74+kfX5:Ty{#t0^XQO%)AF vT wKoVgo_mn!,1kU| f<)i*ݥڝBSdX;hK9Ayp_:xXk F%rzR$G|_]p}%HG,EfJ 2!!xcaѭx5"aҊW#"2dng12iB{bdH (Χq@,&]N55Ij5@obLvk$ah@@R!gw"[w Y T cLFƣf{=YAZ|A\By"[@Ĉߝc ][iԽ6KvCvg &9 Bą}x$__\h{qVS 6ֹ'9rqݳS0..>Ȳp#2km'2:wDX3KM,YEX/@jaJx%gU;qtkThps}3 kØm@BEu=)K jz^]rdѻƳH.OwqyQY\$$5, /]jIX)JHcP쑣đ#G$uM`jZ9G- ʩA Q9UrD1y(ňPg2 @;r4I_.$kDH]Sw9%BpX A wđ/A4NrCAGG1.dYk0F*Ss3)G<{IKOOIi5NRX#{ZxۏlIٚp$dSݾicEb}BُM߷-R@G$*5\A2ZINf@Ƴf) ֚<i'HQi"%'YH́Gx(dWaʓ nj6hdiREOZrq1"G1tK׶/*Lc"BG0cdUi[vjL NRtjG& k Hy#%ZŶiuK {t2}71:F6"="L8[T H'N]9l53}Pv"|Zo?8*XqN DC?|o,䊊f`0@h94ofFG-_zǵ8]s#G"·vhXnH}c tG/I:S$rQ qj^n d+p4BBGȬq@DϑЭf[kfbttW*:yR0IRMy*Q@n 7ڈlrwfO  틖ňQ%ĺu ifsVM`2K x<##OXp: Ń}1:X_G2YL skl#p?ymچhxk= BmzD'):yؐ<~ؕiL/Qy $W#9$Foœ5H wl@ƳL}pl':{ḑbU@nE$m%#מ% P4@y]ȘZd&|̦W[e00ft"[#݉-o]td8tDfB%V@Ӻ#jX[ߴ :\#E `oY:E,g3j4Zp8ӕNshۘ`5v")ZGԈ ,p$854* z[L7?Y$ف5"?$Ī@G&>0rGT4:"a?p:֝5.]56:!OhS3߶Ee#[hU#jlAkGI#Z|O NݻZm==T| Ja( H8n Q B҈#s &ebj|<ZрbD~w ǫ,N@طel?\{5"bmﺍ K4XF%S\1OOv53çm,l O7_E)j)!e>Sb3Is O|J*%c]AHDۙT,=SKHpdYaKFXX]uُN* &XŪ~NJk"W\ ﷮;ș1J-7X+jy^/4'1HZRdcq>rD>kkUIiv&/G+u/@ܤf5Iřk+Q, R`C$&+%|1jjD ]K7$7B KH _@;v~2b <׀(3`:Au#! ~M8T;! ZzU-֤&"yFϑ{FܞݦxcD$[dƠ}s?Jt)`Y3FX#> Xfi=K %cVV@;5aQ@l4cN_n4n\#r5p' ҿZN v[\[i~2",'R-&y6CUɋ,xk'SF(htM4y4Y-g>SND59熒%V(ir\z:@RPi'`ǔ`+ Ț4 ȸA2ċ5{m_XEcގeb$|m3`Mrx H ^%;'3 LD (@ 5ݷѴsSC5"՗. eȀNH^IS ;`5"}|k]S+@Qw2ЄTZd(XQ8eJKűY.8SjdG `r#D tԛI.`́D̪k@0XR@>$pBSQ<OF&aH~%Y[i p[l&b7T.GU$ αMfKoZL%KF΍|M'bDT2\e=B-@ڭ&oؐU 4@ Q<>s$Yf{ɏ,4Xq4N\faCy;#d0tU+Q[5nfh,xҚ/tN[LɏH0Qӭ@# R(!)dTv^u8y ;:2A w wΎ6y9H#Y,iBڛxch83 ҧ6feғ#ch m>s S7:Gtg!2+}gL[T:yhݳBG!Mf^ Ԯu Gg=_EjRI{3y69uH{*<"4)#% Y W<3h@{So G" d@۷Ft#Yw;؛ I1#m1tw;Yj±iSS0YSjVTW@(Ȁрt/Z^-F #>X ԈSQqҒcb XW#ֈ+HXT]z\xH$,̈́B +siԶ/b+(`0Cv)Zнc{s5 5_ p]s7qn-@|$Bf8xEpt'4tȑU]g[}3 ˘FvRS[ a@&NsdJgI#L~JG"± &xsl/[* zNI8ѿB=Nd@\Cst::&Xmn_`>9WىMH(})[@`1؃kVb#Oۺ0?<-M7g}d蛆n@gd{%WjU5^%ME[1OX8Et'!8Pkd!QcqD@("9b?<rǍv @1N棴BBFc|or $ !fsԈQј}%b"1TG!#_S ,Y1<5ڍG@0 uɦJ /Yxs (vGѸvܬow/ Fn~DKos$$TA7"l6I}Kl5'|?qBw#rׁ:+ +_(3K0 HoP~^jP!#8y4\=ꎍA&Rr!>J&I sVsXf4)!? $398YT".`# {.T@\hD}\5p&T1l O?c!?HnG%+- Y {=@rK6cs 5Ghi* H'1NH2UI7nH e1X>h eQ$7;G3]LBxmܾ͑Gшr,xD5ЈCy&$k4]irzv]ݪP#}eLx,4!ϫ@<4YQ-R߾@c M:Fa4@ݬm$yC}&O,'4g5?N-v,DÇ(Q{cb,-FϧGH&_syv>\-N QjPJ !hIť nN*gҝ@b[ fB[A%W4! T1 evN2^O3| Tvvdw X>}epFUҔYwBkl J ?Ęal'~kґ6@N0Ux-_LCM ӖxI˹|-R%;hzX<1|ށ9列@9LF^fl$vٺk3~r0d MV 77 )W j~ +H'@TU*& C/W2:^ &"F/}r>"ϛ 9[2 k)No NV9\$E ˕P7.} B @rQ1˘E'8ᖵP}4)twVKU]g WJ/1Da 2ЛJ`bض.1MdS/XWR8]}r~;aY1c2dl!<l xzJmnAl:]4 `º 俆B27K5Fy{3ְv?]TƤ%k+Gw J Ge؜՗.NV95  }9 {D6i2.G$OăU" TO~/yh>in=,f q5&g#adk$?a)d.*,vQ $ dgJ.%G<)|u} $Z &@GA rQ(^Կ.@~UJ#Hwj149")UI錥{^94z@/4+0jfx})2 E&Y4<٥[h@봟y$.&iNQs6eQ/;0Ƀ^/ϑq;eD볂91Hm?;܏~ I t@|654 P~)~nH4ݳtb XkdXtu4ϘN0ݩx<t5݀WN%OQ |_M&y9c qM]^Gl:<ƨnidd@$!@./3#whu;CjF `j .y oa@&IxiYp@k@26̎ A1Dy6c|@scgDҳz.`0obM oxH ȃ< $Zy ^79w٘"ZaPA㬗3I:Zөm _ {),.$`X+%»Ky1EI.==b$ e|a66rijhL3kڝ-6l2-XW#b%|FF0c] nxD@0Ih@"t٩UpE:jtFV]3M|xC%=OGKV`) "y5F̀μK2Ծ!@Kx݀5dSEq9@1fv  *$MN6ko?K<2֣:GGZ#fR< u)GD;GWIN[@,gV90]z4Z/SCf*r:˻LX)!]H K\}mg2 7lyPF=%s#q,eYE :H 4@kVw Ħ7c$Gziko H150% 7g95ɧz P{.~67kmm(+-vbs=,LDę7L`)vZ ` HxJz"F 'N{Ψ &8ҚLPi_P 2ڦ0ѣs' -qDѻ2Y蓇i B JEO |ބ?)xWs9FE8eHg̞b- JEkx>خnÛLg#G4!cD7"ԴHąrz ]Š嶑T8R] &ڭ0ݥiX*j=#8z((D"c7`͈3xN@u=4 ِt bэ7{c}C5caߴ@>@z=xWtw3%@XBwtFom+Ƈ`]A6+ϋvtz-=B1-j,yѨ,kPB9V;}8@YT> g8m0Cui!w&&'κ~7J:K ΍Ж@TFυ#Lp'@Zg'e]rYF5fS3]Dg"鍕,lҽ#G!9>(sSvyp1q̑d4昘 ypJ8>dri LJ"]h!:z*ڣI7fu&șk_,>0|-o`,~{nxm}\ȝVθ$MJ y@Ddo(=PHV\F~4 kG@]RL c4Si~}D W8Kn@r v*E*d1KlI`^ǐE `⏜bjwӄ!׫z5в[tuzz; 2 ˂'̩+m̿MXlwȧ՗.GaʂrxSJZhKs:nYK3Jƅ¹FE,e #^R 1 < fQ D$vPQbR$ZD2F#0 [Jh2mQK8hsk MʲM( $_+ 3 CA]"1rL U{XݺHpr0Eq(/(^umg9]bUi7ULY4B ;k9hBO M Fg O$) oϘ%vWttdMX%6 t"D:&4>FI6S \Yd8 CdZ`_\$&}{`ѸE+8,tX` 6WYfDJXG,ϑ$Q97B ,ža:1G&W" [E ȳ1F|vYS=;q<| 4ծiꁚnI}WC4_L5:TtsA%{ː  ,)IFD߾aX d@V_ $}@ x"٥;lڃz 'b*mg@:hHS82%[`ml_th fыjh09[Ei0btjQ路=k FcV\+ Dډt|Ga 9"{tjW,Tm69Yo./I j?3|+jJHS#U@]S j!@\hڳLʓmߣƺtOҤ¬'G糟O퐮I]qE?LwuWh;,فG:P+2j{t#sR_F U%ZDbKb<4 $kyYkɬxˁĺ&ME>ū@X}>IqW@䦵n.qЕ&C62ڡhbDC) N) y~nn߇= r|(<4:%=%OpkLbd}9!4^}gHH{қs•7wv%=V0WiTX4l6RiW"~ dԨBß (G$J8]O.gY \R%G AZ4EF|X-jqW ]qq+M#Ow %IsZN $؞mtM)<`9c"âM_ڗ "ϑH0ß #_t6h8G|]In- Hb1rt$D;q, m)"dBji]ad(śh›rj"ob0R!5.<Œ"(`2D$/hzl넸vW.:ۼxe*9yV#2;tf#Rk $CGHȌZe?0CWݪ>4uH[Q8EڃfG\X'=5#RΖ(#S2>@Mǘ'ޭIO@(F1{dI4ąk@Z 9Hij(D!;:Pmt;#, FL7@bgɽ/gMsFms\ `i~>J d@j{)m_@M9cIh ) y–e[df<"^ &;Gj'6v^(GD?YN41F$$UFxgR_ H0&'ky,I5 NS]n}C.,[h䮙Ŋ#^owLL9`wb?H{6  wQ& L٤39My< r6K! Ҩ] ڳm>CHծ%*4- S9%J`;@. ř۲Zd0Ob:a4٬+/}9ngAzTxV k-@+]%L, Xk@O,$dCH[$،Yy&lTOD6@0^ 6I\z:嶏x;vgB= h5"w,򌏯/lF>^%plXb6YT)E|+dS2$÷FJ.ͨG(ޤY m Jڬ2)\e!:rXu`imb[LE $[Ȣ fD} C1"p6AOoۃj47)3xK }nYr^z2=JOk|"N@;h9P=NuKU;CSgdX? ąC +ӎM Cg\΋sl*^\YI}:#?Ms ΝزE2 EV.qA`iX@g݉1DR@_6FHI^acl0K@g jKIm "mg Vb*Sݦ}(%1IGrD Wd#҅19"^Y@2F7M]kPX{!^.2,<59G\0;!6END2 *G}5#E{YP\<خ8n0+ [.H8"%`kv. ^y^dH"ȃH˓ShaHotL$zt!p]]JaBdj,|ǟt* 5ljzhxE㠳 o$t{hL@~& }:{ӑ@g,(|IQ|Cm30OX!+~U$5˽@ I/4a y અV2;5!sxb ;V`$f僠L3C[)9RIk?+@|t#!>n4b4H(@m_h$rb!"h0/bŪK* wQC}qlQ%ti ߱CsW6*t 'k@bnfid]3rƂa>JKcd?z{)l9: FI` %d*F,Dό@M4>R|M"'X ] OOF7h/.:@:z|C]Mg<9"XnX^ZHA$d݌ɩI弄S8sZ#fk$t##r6=68"AO ^ ,DDj\lꡩ-dWLLk0]z_#FđJ h( }1eMA%E(JToS29=T,tYod(E2[z3lttX#Ö;FS LZg<YXP3y?)b^vS׻<Z3JF$ElqRќ{&#K [:uom2L ŧc~ w _Wt O|T5 RfIty_MrW#\z9giNG,$xv2 E0ST3)pjnsH=t[?GݾAzOiz-8@TPf4?;u% (2J9$nҽΝ(6e#!dф}Y,fy' DhZ2OOV v&s$ 5Y _l{9A =ŃWΟHħi\VYctn"O!3 z5 k#6wȭB LKAO $XdyV(ـ =`5B1?1wn~(M/T8}f@&n hˁ.O3iRd3Y'hiRuiG_(N*&9꼺:#k;%p#56 [bIsks=zIyoZHkaG'kR2g'YOz|<9=CY"v=%GӗFygm@aHbAR= ,zU6oVd4уG Y2_*÷4fMp)uhɂ= ݋M;G 7LlYä95uq⒜^AVZQmE9tb@?jŀ/A=dP[K]*lP--,8x]5|E0 +c$9Hs wuF7ݍ-ڮC\KKᐅ9ّ Zb} (C+MK,+v lcn+X'*t!&xyY2cf )%ȫU}k21=ffs}2`YE fv[ͣua&dXYV.[ 2<&jCD &y#zʬTW͊ޘlOHJ[ GhW?2Wd0EW@" ɢ *n+wTpϢY{dS(yY `z u\ϯO>EZb nT%Wt[j5w#޹TjvkkQ`AXцW GBQ-*㴪rhfEBinijt`/{i)A!Yq= 000+2Nf ,+8j?\aGޟbf Go7@bָ4爹2ƬMѶz#Ԫ,30ș}k5+ 5 xAdm3$W̲J`N%7Չ䎞l&+F@5EGq=nz@Vq5>G H_yr/й8h@VeqxB-CcNA4rz o8"ܬN̚Jo6O cw/ftWsr#>C|9N@k#y~4{(mduHA׀0?TJ^ӛ7Yl&V m)ө۬:N]R $ڬm"ߎ9RXWc+|^0~ HDt/HH@jAl^c@ܷƂ?iA=2LTv F|t*fIXOa*./A:P˂NU$f(*"%cw]<Ѹ>uhd$͵S#rzƖ=)Vyx:_+2y1 byiHX(\緦lD@f6#:d)VW-8c 4Cs9wn3u}#ހX##ޏq}6 Jqr{+RM̄%:tՍmٔ%>HhE 6Uh aݜde70ҹ̄bcN H &~427 W/YĕZк*3Gπ%ΤoO* V+$oW1) G2˱uQ颅 '\ClJ<)yyhÑyal~$HXӡ9M ZCV tھ;!,Bsa[xl|LrvPzEY׷ݱNG&HW~6WEUݭˀ(l3i2oUqdSՂTm(A.O"=Y@2, 'tP,A^(gr(? H5Fx ??> 8j1J䳼5$dX"Seښjg~gf r9$'Ȅ,EYsUbr˿.y R-4ZkSnA@}j]jZS-UPkAYlgt?PԔs|@s<9R>DIıwNԌ'.N"K"oe854#SV}#&+.yH"XW?eC_ KXL !۩,Z򣼕Z>lZ;i,_P&0RY9m߷BG R~g :'ÃAd:Z%{I]V`Va nUI}E g C  O2k){: ],ƀ"(sDLXgVkk]`\I۔+d͊qlLq_2̚a:dYţӷ3 5>2Dnz@FcYMӛ$U̡"y Vz {㤓m@F%:L Y<} &DOLgNMYBEzwo:a g |lļ5Gǎ nJ4dN4J{,Hl~ I A2nZ" a@A,'@I[D='4}N*Grkz(eo*ZTKԸM>25ܞpS@e1wheO7=(1 ͯ@Zx5k*THXʳGSZhAGn~YEΎ6ow_BpEܚ}ϝyEU(4IWN (o>r,,Fd#^c@z5o7]ZiInzӀ7uE[ @sX) HVVQ\ɬlͦA1'[N2f_C)92bSȢ5VG#^@9ΑbA?B~mRW%PXbcf  yg|Ysx_B[𓆽yKD{=Y d# )Gf-q` Dhݟ*ddv뤋ҐY Hv#˳_ \ HD"v Պ5/ʞ.vldh [HNUVjqەL| D u!<=@X Rg⬄ *Udk1 G7>ZA鸺z *bəݭnG/RRHSpAt7r0@_t,-NjA[S z}$B⭄w>@Yz(v:|^@Gc;zQPz #9'qdB#2Ffhգ9"4=_bmg$dc^}Ϯt ™UlyV|OYQ 2P< Iel,Bn-(1EVϑTVٚ{x{y ԧg@%v`ހd@uxެܦ[ H@q_pݕĬ՝ b/XnQͭt# ,YMo}y>{ 6ߧi$.vƮHt)*Z`{J}jqcK9Awr^)VB!W*Z>̫~tD 3ۧ2BjjIAΏM>YiJ(pv^^uytS x6 hD8YBг*f}.Sl@t^=Pɺ< (䗣w&p] #vWY1 :ОAZLDca\Z9.t HԼ | .ڼBxq oWKblC #\0H'w_ ueMɝ2AQy O ߥLʻGrCl( Bs!cCvɻ'k] EFdp;z\!g]9=^#&+5spZ,F Պ< fwj(Hu1V ڠP%?uvg$+>ڀy=d*RwH˂ĺ.C#烷ޚ+ o, 0ːppց` 4N킔/pX+ S`D#^EiNZE/+XY'܉+ê'AƓmn>aTFjN-oM|T$ ~lw5dY ',;ʵb3bP|ĂLf:GF(A^UFl tH2B_ك[*qDA0 ~!AF_qBjK#eRT T]&Mp J[F-N̟ݛUALjA]kd؀5z 6i1OKK@U#ksj#J#G:~7E%JTFНb)$\@>Ȃ!vEVn%{}*pR'LNu؛ċ:Sý D[=6׃htYE.vF V<L.@k+jXeWF;y)TxHN:~Ŏ&4_o:I~ڬH[f" e| nGBqԃ Ȥ-qڛd*su=PmZXV IyS!4{H遳W 70m#УE@|XOV$}|!)@n.$$M 0 }0t5z ތh7lѾl+t 8e8:Q} `w}Fr1v=Sхĵ.]=H0]d7A ST4Yrhq Cd{P3g)ptepWoFPʁ|;Út[#t%چ`YY J[2>@~3kK1]Ewr5a7 *Az`NρtgFYFd6[ *s;iRL"l@-U|GvE|TV͕ƄrTUHż(diN=EHY_[[3R/%ՉaSHT6Wޚ?I5@5 @S~3<<3FHID\r N}9WKa1~.CήHe{2~jQ;]ŵ(;:+\hS9N&X=z he`Nn&cTٿ) 5O [ 2b.ڀW$NŀqE 3 Sucp5t6kYUʙ&yfZŠ.Rq=˫ݚ"Y`Y{## 1ܳ{y@Gy ܽ|,tq~ߠkOgdԊ7*Ђp>\["P3C@qV&?%v=toe@ ;Naﳠ}z^{na}}sk5oE~-NxA=Y93d4*msdZmbB>b9^KL|h#UBڂT|5 sE7ԏde7Yv0/cBp#@EbjX@.gct ~FZ A]7,գY{HҾt"Y>_8+o$! L9zFȶ #eQ29kCvx"ALSsڬL:¶b[Xp>W%,::  #AWdWN,F-A iAFN$ΈF=ZQE2㑗kȢI=,طƓ+rYL~o.@9E1EU\Q4$EX :+Oɫ#j" RJ@q>H׷ke+@\&wTu#CD#+\ݠ wcNȸ[(O:NF~~xxuoףѤMs2F A[S4b AӞUo VoF`fryú"``Wy xޚ\ +Zo׷+r%Zp5!]N˴}\#?֠@@' w yz55+1@͵!=;g7l9sΏnlk{S/~V]mAPU5!SEG>) `0v}ʼIAB"] :h8too]$ k ΢ݯgX jB["{X'n+ە+ d_ૹ~Jf%~4sd8H()p.Sf [*x 6! 'CpӃ7 akXL Hg3lژ ,qBuA>NQ)dMVd,@wKHx_'d:DM&ښ X YvAR$k<)$dhA5NՊ$rtAgS)YۚWĂH'HQ $hsqm{S{ҭ5#_m~E΋hЕh R*\U'7Eɾ"]M n|h*=C7>M[:X]cЕ/g->K1V ܢ_tH,_,3@&`O8V3aE@@) R Q+Eo/(A/\i/=ˏ>tTͫZ.ψsţ'PRx9"l4J1pkvt&9|ޭ߂TG./è?ìbG>[~dɪu;طY5Hgud,HY=0vOP"h*!9qKZ$ECV jd==K˓m GamW`{Xuݸ#V_Ia ݠ}Myބl(a&a5ѧ IHůӏ( ۊ} sz[sΐ*!4҈ʑ%F/kN^ߏ@TѤ8MW$>{-p諱 hːqےF N _Rҡ^eAzVY}S I9zoB,Բ7,L9 &;"+@ u@GWKh ߸dԐաo@jZ\ӟP[/[I"icX__ .3@ziZ~5&RxޚNB_0]X@ YHsx)&chuΕu;3R 2 p'T=mxE{o&w wkR2;pvtDV, \0`<;nR`ڋ>DQo˳ 2ܱ _ s3uolM۠fQ?d4DWdµ5Xx˺^WQ3Hw+˚y.4Hl̀[tTN<.Nn̓z@9AAtUg9|MT)x4qsZr#K@Q̐Ap2SMkzw6~"ӂMHԸ6NB^^_`}/ѝ|%e9mKt: =b/]Dw'@=#wGl~W:\؟`; !G(h H2_SVh2 2ȁko<JVn]=Z ECjKQ{Mfu/@~ ̤%2}kꗚf(f.Bj~dVTk%Rh -5ɝLzXAi` ޣUw'N|-x{8f&A}zd ށ\fxy1ΰ05ָ¼Q.Z-ԡ I>j[ b]ZkKb‰(xt8GhkJ+$F" \qGQ[:΄eU N TK񱐃]]Yhq-6fyZ{GӋɃ @{kWpʬ+T  =0VG/<>7ch+h 5V;%OW- X#'NDNߧCBV (LY؀ +VAwZPaYF4%61 ֨ 6f@cI:B¾duGdGgKD n(6:'5j܊ŃUd Wsfld,ۈ 3`tϦ3I3'@@2OaLnt*1" BsكuEz6U9gg.4 rZ R(_cAfZ#{^hst+iWD*+y@L{R _fT B~$#좰ڹMkkAXk@b-raDth*:]j(A  5_Yc 7+*׺$Q8|}Ղ4`|{h*dNɸ3?_yn VnyME0xAY ?H2r}>}!?_0Aƭ(Az͔$hh#/ˇ>icG5+TQ-X0UsOFU;c6>:Y ưKսtX;>=K|$h5~@.IPHYt[b!{V 5УK{V`3)WdYN jimǁ3k9S@_yFPa՛)PR`G}kQ"|x .6AMNvsմM>jЅa9^YuΆE(*Ų1-kdW臌H(sJ)˿,ФKH5a]T fDVQ]2'S]̐eF!l`:X$czψQ[ȁ0N`_EЂ\iG٬R.G-*ySi_\cua3`C:þlrE'u{¾5,SY#y'-2'OvF58dm4$jݽ.PcqdݮV tk+2(kW6 abh9Q2^M<]~ ,;4:*g>4MdkP 9kO"p@ Z ˙Q '{}!SтFv~5 ۭYc4R0멑&cZR` mQzXd+<3Ұס b4bu95{!79ݞLj7}F]g+L7UL._4qBςFF`y7 S+Bj+R'ɂpFY95KU Zɮh L(-+#fg C4=ivrʫ4iof"mCV]9;3;z+0)Z/oNIúz9{}3 2=P@e ,A6!DVHe\L RsnSM!JބWd)s\;'=rr7)52NwF)D)2!{kN^?q֜8组r%!' ̾ϝƖ=L|G2$! MUsU;E~֡Շ`,YD"?P"e- !cd]v+4;ɹ%md53`BжBu c6E d.R`I> rINLF9pOsWo@tU{GWkd|V2oߣ&`m@4+Q(It;nƻf ֹ!Դ?Ȓg>= % M0KJ_̳fYERs\#5+ȞFM3 p WS 8hym*c=^5wDR;?L~ K揀wVOܳI`D ne9<5F0A r C|OiPfv7L=l9޷]^uC\L⾐sݾèYxxʂFxIe@UIe_3mZITeXQzj"|^䡨$gA,-TI_J;݀KSʋB: [2ϑhA wf0Oz }?@!bDXW 㿾d d?aʸNeTBNK^-o_=SSC 74}]LTH;FPǑU;S4;ۥgD"StrEd$s.V qO,E¬4 GS17 owVNOslD0"g hA,$zDJ,Z.wt!`? {.֧wM13lQHV;\u(m@UGRNZ`%}d ]HANtu.Cb h!(ųE)I:4kݠCOo/]3 nBZ=H,j> ]#-FҶwEd"|H$E _{sJN֑L`nmXYs?%R7/,HfQ?l^ i@N8E h^؁d(#EdW\zdE3 ED~uSQ B9nVwM б,{AtW [׫NJY29ń-ȭ:{@]L@WVSTl#A҈ vT)ծ> A#Q^cNLx td ._7"CQ>K2]Cs hac6yRT &i,g@Vs1F+]X >Y[hnJԸeD@=wxהϩҜȧ=a`NyRu{8h՛@Αtn@gS} ^$ };\Qfٕye4]Ul@4Ssq RļRu"Ŋ|XZdP:4BF!lG=Pes:kBKЀ^Fds;U0ea \!JW dxX71fa,S^'g"޸@w @ ĔI2R?O߸kj "Hӌ{ %pлG. c-R!5)?Fkpc[I-kJ-E%X}ҁs97;43F`|@繪F5R6 PxVsd RdceWRCGpH(e\uhDd"PڂFd9HrO*5F KXk)]JzZF(AÛEV{ ȉBN}929PAxAG|/ DKӊ,Jyfis`9=kn,#E*VKy6K=X 7 Jcya#KB]91R;ӽ PAq,kH DWsS%2?\s hĎ6 ,v j% BH`5 O ذHgӖ5[˄7x&S KXt-dsz@oUN[pԥHE6=P[n,Ryz7c}&~8!-RO|D0XuUG&ӡ^@jI=)HT #Pū 7wb"+ 4c&yDxEbo/'o7bKB^c$NA5/O j}Q&!Δ PB;"4hG9Dv/ҁUW -J1wAzœ “r@B_b @XBkF-J ,uytp,SyZoh[8, <Wgħ˴ @wh4F ԊU Y"G+ՏŤNŰ.UIk'޾F$;Ai-޹0iAj4N$!k}K{ƽ=b_k=+uUfХ wX' HA5DAz D T-/u& i\S|'wkt֬*tQ?h3E}5=|GNK%Dόu16e?P"mjX_M Xz!t r2p5S F ru.6 :ENm99J&(MY̿Dx\f9W˂;Wkلt_^KCi}4L\_},br& de'k:%,d{7'YoR"qC5%k,s$G|^YCdA =hK83 \2We$fw^ z~@psfF\.e>=o/{b@7=~P7On4 iGH;m|$]\Ka28n]+씲>3\#v O&n[T4_zK\S`[ȾS{v;VnVK4 E#ÍИ _[ą&0+nxm-5br쐲XG"^àYBR[Ol):Bٔ5n&'Z?YwtY-$T*3C?nAze)8n+ڛ._^;,DA0k$s wQ)t;_cAJK?S^zϚ*`A$!.vEF6H}+slqU,~[Ū!I V)?^y5E j@FUU-/tzi@3-dDȪɐ`e漭sJYn  < |<~Wwxq0>sb^bL0RX(l|$>~, U®^ ϚԼZG?KHpΐo<ti'on-ph`+@>LF*Nm߃o:GCJ3yIƬNIͼXZ(,Plu8нD&d%$O*¼*|-G Py_U_!dݭ@3؈d=F93|;T?RوIokā<**7-@nu.C8D,ſdq%LcȆwDsX(K2>g›5TEɱklHO S^fW"dk߰:n0gȰ)y8#܁87@ǥrSƥ=H) Y`ATeU)rO cIđӁt[G0jX k&Q״ ^}_z!":a0I/"E $_N[~JN(9'q=AWQ)siF@}]s-bd2pnk`kJ>V+k'l}9tPbX@\7q#骮ѭT^2]sQZ#7o8LxwSZL+^yh!yy{ҭG-9myYqd9U!0.'-̀?#%5"V"_Z] 6gA=NXle{Q+F$)b+ ׆]pqz>iLJh:SPUB*풃B=ANxW }ʩU[tZRWW"@:@Jkr ?y&ȧi.i,dkYҾUz r r5iZ֪+i+Q(kfSymz ?Ct>[@RcTc'+4 9 F :ƈ%H9C' ٮRi+*7pY ;G6ېY< [/@mCfHږs^\NUR#p~\zɷȏG,\UJ%H%,[4pdg9XPѫ$1\ 76zh?v]%u1"9 k׏MY%,7j-љ(%xzcOS$Ȼɿ(5YU E% l'!s$E?׏PkY4 x[=DYWU۵:SWзHtw/ԏ닒3 1gkZ!ReHX@=VȩXkS"6"U ?Z豇H ]zB4'(>vNڹ(gB'&,/d JXDiQ;1=s#@ZbR %?T{O8e)4ܚK}l ݝ,twng+H'fj*e166>'#/`cD8KKlGGGg@v#CK1Bu+HoybTmkRY.iwX|gePح-CSs$ݚϰ)nYs3vOZ{(ė?Tmo:paIx<%p0S[(%H6X7{d8"L\&=0\5N aGѨ[d. BjH#X OY{s *s_[LDM`ڝK&.߫Y&MK߄qzܽ F3lXL͘~fحH;IT:,M9(zU4dXTU}b$U:}th6SB.ܺ"}ɪ!t 5/rK~)@l*3S$9|G>l$L͕9W6MN"r'5iҟ@n;Źͩ+fހ$g3p3(F&z/LgMA LQ~$Hߙ*Qע#)F1L%:GX 2S2uӣ+T |Nܜ 8C TGʨI,?#X$|%% Ċ]#v4qa&k=ji.^k@*'iRx`>(GwGK9| Y[ vI9%z'd-x$0ҹ۲;20XZU%[A]uej m/%n7@o3vO P1m2s%}--vl#3q 6!I!XA*7x [7YEy>gtM3wod 9l4 z,5MbHb/v;+܏q".z!! awƍ6RyN} $B)kbzsqN2$78m-6K{#Dq,sv={YeYWR*|o+ ր8N.g(0ЫX˹G~Ŭr<O *}d+^2IF\@ː%s&bb Ғ0ۑj !RfH!yp3eʝ=8X UN:D\1c?iR'ҥ.⻵Tx84GcvP_C=]i  ="-n|~gSldo1p =^'&-?hr%ɵ/#1eMI/if歆k> ~~aaUK5-8Rhޗџӏӓ»,Lf(bcbGL4پC֨oQÿNIT 'EI|jlHnQvޑtDGKJ[nn%0tF \W^5/r,X^yBa_'LJX*+wD\ZY3n˳LU/eB,ղn6TG-?#uںGD~-@|SqO_w>ސxÝ.vHǗ'k}ݜȝ3<8C/TBglOtvGiZ{OxJZ!N -Z:gE>3<9l_\/L"^/eWx"`;1kQUStEI tŶܜ _3MuM$~F]w7̉6Zt ?G``4g4VTU3MTFDmz3TUǤ/K]1ї9 ߇|yDka moa͎0KRkz 0)6`[U2(JTkH7+"*5QD.'_S૨4L2=w]aڎ@⼳s nt>.m{_M=": I<{ޓ㻁=FA Y@*C@AK~#968?q?'1G c} FBprxS]T>zߔJx_V_ɨb!zޒvA?N 9 0NGV"%bԿOJ"6GJ,P>% s ^(n!B%e kggwW⨭qԺ]t.Ͼk  l`dMd[9ԉ֯b_pɌHC#{n;x>`a 5QG>0 !\kJbT’?cܸX5qY×yWP+*\ ",xDIs|K>Lpo H,a@2A8x1Œ-{[9z IvX%BO+Y]T9KDm%kL;xb5jdK cY S5yߑMn7vսh=`{Dn l/$kO[˥116m3c#b4UDJ3s;`njox\vՉCp=IkӺ(S!HsRfvߪ,]6qYm4+D_c5h~Lv,|G[Sa^@B8{ii$kIË F0EPoo_~ qƔGp["3;!:Yp>p?}K8+\N5-M$iaCw>;x &1$g W&)VcG"w A`Fj:BSs[O`J2@WjCj~ؽo9#jغlccYpN6Ib 6,46eg 7 }œS#%&t'-Æ LHB}HA#Ͷ _Fov_#ݿL@:v=47':jyν3+U@i)F~tGNfwa[#27$"Ӟ ܳ[ʬS4))w\dיF5ZDiih,VW,h(P3jhU^KW<SI7 4X#\^xݮ]"R|UnF|h`xԳx/ ;+MQj;l<֝$~l6V/,!ƍL;j;.nٜ'}dO!I08unQW\AoL#?=1"N+2z2]1ew§@Q"HDM c,_P(z$B'VE&.@<\l ԕdWy릢t@~w08ߓʵ1H;ZHSW yz% >v_B>Znk(t-&#!F-0yRγ]0۾e)duE^=a<s8V!08C 珫szmY[r? <?d"\Z/l)!R?e}VZ=_P{}wŪ,ѐxOͷVoxFWWΟn[fT6[K,B(D8Meޞ_߲×z}5.U|ѶdRh%ǝyI,1LB] ڬֲ3feAR:y=QMch%CΎ{ @K< aicj&ʧAAG|-vuŸ+ǎKm͉#8;RֿTU_|{uwU)?θXvG|inxHx!*" Od!" Sv _@$`b_?UTOh;#dH@SReU+Kcw F#,j?Q28{Zw5SjH .h^&T ]iMo5."AA)Jpٜj1YAR5(RHmߟ'ӳUl_\*,)ë꯼+ʫ꯼뫭Z|~_y7Uh^GW^ x}k:"ѺM}M̫衽 x3~],^W~}_elRv5`gnzþ;g6̦WĦ7|GZ*$F<<J~Xzȋ@:$J/!{ZG?MT90o`Ɠ.( .z ՝_ΙVz-O({K eww5etldX_YlJ 5͚vj= ljlb|攱ۚKYg^f"2Cs.{R`>] ܷxQMhLG+/ƎU~5- lޑ=QyG.m/'QBJ]GlN^D*I+_<'[oa˭iVaɕ*U66SF*xPTxxF& m_K.C $)J$7ul% ; Buغ䗖 qCU"(+ML4ӫ4%yGp,HYRZZ\coXWK,"ZT"߭xHsH p<̏ \OXhaUWIVbBR19 {OZVoUZehxxWxxGzg<1WGx)reU׫ .h?o 4{Xu5 ^6/7V7Gg 妼. JDnUo\}i?$GclYxu L-O(`rGc̃w =)XUz\j%oc3E]u5u}ahDM#0yYWQ+ "hD(KJ[i-n+*QTP-EꠊbR= !G _[J}/q"`c;LfS4iŰ2d>ka^\ A AH_(BWF! OktK % "LĊzp_!}STlC5)&POPOPOPT_Oqu2O@OF=>ASnCJ|6ISTW-jwIv}kjxrj6NPOUąݡT5@(ȫ*J3ioHJ怤$% U#VS}iH_: *T9a9T0@j6#@VmS;65oMm  e(&HR!/1@|E!4{N0-4gET GcRj&*Tނ@eKmU:Z ?R@_cC!_ ~t]fEUSG 2d s' \#q(於jmtAd"Oa"r8"T(r y)xy8xu#X6/)#ia#@i hD=@  ̐f!!ig;Rb>db)4UbkfL܍{9LsEbI;M79`ЎppK]nqރ₱$Hb IEϞ=Ks˨tmGu O~F_@Yx{[x2DE=W9z++iT?aߞkp ku`m}n?N]Z8VF2÷+mv/>UorM<>Q84ߧ=rt #%?yu-/XiDZ#իK+qKwjǬ +(]PeiPV"%yd'O;[gk=8{LL&Əy,S~y}8>9$e#'u+w3~Ŏ\1_}L/OoyWEaI:=ɬ'Kg-`9&'UWۘܕ"?E_o72=8PggrNRaZuxjThjKXuJg"3Gw]h/1|5fMdhugX,W{w,/;;Kv=owj?xZXX6~c/^;wnsJʞF]ӱ:>/Ġ.jA_KB QVϐg9# _mZ{޼lWeZx_?5v>~ݢTtlh4nGzDz3w`Acc'M:s*K9Đɍ[p!]Ϥ6TaUBz#38M^~&H³W}PϺ=PTOמKY[C\qmF)绲2iS웫 uq`FxEյ^1;wk ' }3/z[scEG]M,VgZJ#> ㊃LPVϊo{e˾Yؼn;C{dԊ:/N^uxC]y y&f+q\=5"sy%59 ©7nYi_Z]yWkrdgU05u~REs϶9rCƯL\E3LO{^DuoWx/,034YAnte5uI~Ջ9L4mڴpm oүZyj'2U{,8rV=#=_^j2oM6k֞NKu9z;ggf?fai}6 b?;bꗔKG.>{u.mۿ o?z4̴ |=nLYnlmQ/nLW3r5A”> 1ώ#<|hKtD]J׿?={O юX$OM:֠%{ = wyKد XGotvnMR!? BVG6wspR[dsђ󝻘&}s+ҭ^?67_e˲}эݖS޸~Rg)Ůaǹ-۩ 7}Ӳ~\DWxosr%VU0M(|#wF1??ut|/CupOK-+ۇ, T2*$S}  d@ PMu(H[2ee VP=JX Hs x.K|ՒrEdQK о4AE [k70E+)j]u !HpV?5$w=#ϵH!Yk,6Ghhkj1 H~D%GX& a"-?"k%<&"͈Ƥ[AѯG C1-67kP}#+?ڱ?o.ѱ`{sd$` xcJ=Bj6 'gB>m{b_G+n{o 9^O7=n` Y5|hxd(w$3X649S(7n! =a wq7j2Wi+dГvb~B_Ӏw9O'pv9$>|| ?2o'~Ԙ00E_YE}ko?C!git^F8c Ap`xZ)VbAQu|I  Q?EY@% ܊r/4-.t!7Rna"DUF?9X#66r;I+vH)5C#h}Ș&64 p\ԣVDji-u QF-mWn/kG2]|Ghy%¿9O>Qw$'HMIJTU"؁M/`M}x`2 6*1J~R \@¢ʍPH_[*Ll_g?:΀ S Y4šB*M!TO5:Eʅ (1 Ȏ#Ρ kZj*$MqO_v.Ә*0k_C߄H1fM };DA3?vS +d? O4i2D>kalj^\AAHW(CW! Tokj R5 "LĊzp3_}H) _%BM23 ꯠ ꯠ ꯠt گگ$Czhī^xm.ȫ`Z, Fz~m6 ʯC9 X)) kJ]WV$D`@'Vtbe9+ه,NDh4Pulꯀ?//'/20kdȪmcǦ@W /^U0 W HK%5i?f &&Uȑ$Sp "AḾF(q<9*S(@@(쿃a>0p<;/]@=筺 _UQ <u4X$|J @9(̥Hs@:@{4EMyUapDܧQ _csa?ANLڼLѩ  q-#@-G4?0Dښ!ĐV#L#cvp3&ЙTuH8J!3. : UX$yAp p դ֣&8&Ԁn6[G:Y*yB8Bǎh͠Hc3fB _eNMz[8oBzhwm}C:LQbOg"TI8 %Az|Hhts OP1/ 8{_t,z4To Х O`S[GҦFea@ FP׈zX $3B ~ef=~2V=eh$ך͕PDlyWhtYAC"3tA$N%Hδq"\Pq!|q@BĆNTU&b=/km?#9j%A*^jn(Jrʶ@׫_:l>UϠ8i*ļvYi-+QbҬK~NG|Srѱ /CJO'?AqSH|R9o_SU>#>C'iĢSo?>x;vŋ"_I>.O?{ͧ$l)\2nt?t?d pl5zN ,Jn3ihg6_H''3WDtzߴfgǜ{z DͿj@oh_?/_?ƴNЉa)oFGy~jݟu_u_u_eiпfQC{3b wP21psab?hbv@j@5@K^l[~+?ăW_{~SzG=g͍=vfU^a~{8jf(@Yng _'4Td;K7]4 Bv:q1ZN~Ѩ{?F4c qCf<.)3#|L'B?3Ct݄szqqWŸ(fz:5IM Ԗ>j{IV}+(P,#w%o:LZNuDqݥF*2!yĴ"m|31oUq~`zoڋ#;o}M˷V{3ug/o[0z[?z~Fɕ zy1_h1Tm^0VkZ;yvv?x֞܋wv6ڴ/㓝<_bN׎gb5%9KnoЪ5zQтDD8$ -ΰZs@l)d?V9Qtڬ~hJR{: c,뭳]o8X<TH{(q֏v91%YL>Ķt'&; k-}=lvKx$GN[tE[ʦ[CGS: -=ƃy墿o=s7(H4P$`fO$Tk`=v#/E[gUSڪEuPX?9tsO8 <.vVߣ<O92[{q?tWgdr*rrrrV@vFd+b%ϯx+֯Jɳ!MLL;ʣ?W=VZSjO?w5ʴڟJw&oox?gV<[k7я ތ|0ZS+KO |b5@%`5@ haӤ4)IL~|e w)Su_u_u_V {F@^oӷbC{3PfhdSt/@ 8܀Bp3ݲ!d@{N^k0WO[}$5cxu¡ӒZoPRK3}fmOmuw:s:)~]#$}ֲa*יw?F/íDŽ9{a9i&:a u;zV{'_?k:w\[97BשששlK͒FvC:dCv!;,$$G6TE4YDEM>99#3"WBB5+DAAü:7"PߨN}d"XɄ﬙}}Yˎ$'1/.}ޟ9Q=;_pX^ڨ&቎VixS9:ZϮ_CZ~uщzx9&5رt^W4K/bN<|ϱ"ĭ$ XDhuz=ujn"w|f;='13>bOMk'&O~OkU2x{WhMd?.x(uNjΧax8+H pp'}Gˈ`|g3qyb#o?)-Ûϒz1]!IX//xn Q3]zq$@ ^v>h:yZ#oxm6j J@:V!8Jg4K|;v>_>~z0|gQ['N xz9cySbjJ{6)APl}֌^!gx*R=yI<½ğML:|F֜zD0KOnja.)E&I? ťKTSYF ^fg\kRױޔ?Hoy&KTnLgŜt)2@/^x2Ǜ'.nЉ"GLmQ^ (x<ߺh4ބ:t~Ɩ}O%* "^  }v.)O[ /G}?^vH>*z|son|]*0># nG7H-xʣH+߄#JE|',Q#wdO8Ƒy5"OQ<49s!A!^lt[<~g.sk}GX/ #^ A'Cf˫l P$Q|OG! &c /"~$[!~g4oBqs2w3?ƻLr ߷[xWRy`ؕOp`xI;aIv^^-& |En؉~gxj]+ YIxKO ~.kEo9Jnh۔ƃsMpv|uy0xu}Lˈ'/R2|?|0y#v!P~+ת~d :sQx}۹V?C loRs%iէqC.dY*9?y:{~I뗟}|UL>p0^8^Bfǫ7+3 >>c%cޫE܎; -?ẗ$KOnK^t|@/bxzQo-<'cDV^ qH,E^I֤H28Nl/TۀS⺳*Go_G KY=ng8i /5_p/;Ψ7.6yK\i-R؃l|FogMI8u/jD<(O? Z^p;ǣ~=<wWxI@^}5o/x#pW3>*9U VvA< _RMYPR>L|S4/Fl9ǘ)-oNRQ&J@<+ţ '?5maD`Ox x{w6x Dx?3FxI2! OM_Ia_3U5wf!SՏπg]v(^6|m"KϺ]e~NlûDnHEПZu@k;KZOB}jG؂x@5p3 ^un߷ >7x̼v"{W Zp||Қۈ̷ZE| pIԮN,I=kKgQKF_K b˟/~3|F$w39e oJ8_cRթ8>㩪H]ËTO;KsP6oyiy!lfo!x|y[6NAŅW1WzS']#t~Ƥ/`xCUIH =FCWWG_.x2;fx=t F340K8a]ԫufٷZu.)#Li@- p^I5񝫪7ΌKR?Ũ3'bxGxy5_rf=tJR*"5糝x1#%3pL %z]<'ם$&]Ƿ6aD0[(>:ٽ^S4'<)NiLYl|~4 K<!%|Z}~v<&s8^Gre|r-^'@ p^i3 PB}rŞw$\l3 "x~-$x4?Ɩ7@vwcȃ`w>SNRI[sYY㻣ak$ΡH M{M/# A|) PDx{w!( od'CJ,J»EIϞ&c-+|_JPORGƊq6ߐwE/H՛2 ٠(ϧBrnA_/jwojV2?_U>^Ctb/?s"+aRR ~`|Ba/Q|U)W؃qP/UdM/Kh\b4LeAivǍ=g.>.%)+/qU#ыL/x74 #]v?nF+WNWen`=xMQ =b {Š&n\qiqVkZ$wA0\;TBGv^'ds>h)a\0^ L}n&؆ nt%Ϝݫ.9`+$#x$(xjs[ab=Ah (_V(ÅyY0WQ>{ 8 dZ2lr(QBp]?n:%SNJ_l"p|-/!_"[Wz}z,xtb|h>x (^lOxP݌;Iwp@kQ.(w8wU9^7ś$iO/ϏdmCg!ŷKƸ&wEO Ezn؜g: ڹCƃ|j )|!ůEjՏۂHx>s;J]R]\%WfΗ9c Χݱn/gK{zoSO6l¼So]U;'՛`el}j0^7&ID[sbVAtCx^#FǏL׀}u`|<0e$Q,Mϭ@moWB/x!ec+F)ٷשUZŌf n8ˈ,VUQm x^yc+&> Y4xZy~K_ُ'g|zR`| %qLVx9A% / ^zlxR:|I9_'|ه7pIgA ,PAOI۟^ ' ҉BWxLfz{#5|@a9B^ OO#H4qGF vf*ƒI"9A<_ ?ѵYd:uMH[`mtD@4^C^q*E`_l1J$șS%UPZ>L҆*}{;˥''b(x-^=;jGvoڿ Sr;08dy~[1BBDU=%'~J`CN<#kZ _^,/q-( m|u ϶KN,{CtL kzfcJ9Z]_}mv.l*XbEyǧy8!#j_Wm&q C,X_a5^~gxs{ cZ40GgESRڇHXdD%BxuD!,)?x8M\ osG 3E %䗳nGԛ"Tne 6]糂|hD^t>Y)?ch.qq ɕ *߲}+)B@~H"c< *eAU?SI+/2`MEL񬊱[B []'˜ymd=ݑqMMo.!?mMxy}%"UjPe \{Ƿ/Px?.^nMiyHx3M?ǎEp0y! TeP?v2wNZ/xz顓xw/u5axjTa<[~`x\g&u. $ȯ᠒~|%1bxsmU@r3㵈?`>CGQ)Y̺TC݌qĈ+EH PH/хB=|:>#C3@ޜ+yV{'Xu2ijVxj1ȿPkKU~= STP_k66gy,D׫<ۋːd ;CEr(CE2n*X)Ubh{6{{J\)Si{ah$$0Mނ`0^D郒.73O^ x~rࡶ|@~CzMu.E >3'? R"A||hs`O û$bhaC:, n/Pc/x8H|>;ǛȄcy>C:(&cxw؎ -?/lVvקy9]a5K$E)O[{,gFBuAp` $e|Us~6jo<,qsz K oB̿5e$9^Lb\P~%[o[+zUkD>0u`5W;OJ%|9xlUeyoP=_$VxȞ}BK.@}L7^O ؃x( [bxa.!Tl}B׹\緄[ډ)#!Y_X/ ϣE%~j3VwHrEqEtEqIMKKjӻ 'lx (,MNpJo9 E3>%x4ǰ/ n\!mA!^OQwWxtèϙνI{LbZ ʿ޳>'%@H$g_axRGo2$$8ޒGZqL/Az ڵJ[ÎQdaGk|l|Gav8Qg~jAA_#ux=%st5|ûVӿo9^+"OpZAzͣ;8j5xңSG%YY;~<^P&WjAȒz5 /m*g| ]#ēx輯SWxj&r5?p!> px̾fq׽ }Ls \̝ۯL&>Z$dfxSw H30M؞wTP-K)i\^" WxV3j. 8>zA f+29(^ Wcx #@%\XqG@<$ 8SWn o*Ze=">QpR#A@g`Η9,Oj|E9/emZ҇{DfΡE?Q,#U|oH/7|9F i HoMum.\lq8^R7vb9%3\OJXdM>(_a.ZHd`!yRo|\M}PX:_рk3>(p-@7q2SEnHqtn #|3ϊAY2%qrVD8?H^V8^?$Gė75z$$1;:ay^{uI|m'$QxK_vQz^%MuRŹg+9!~O4 _{yے߰>8^Kx4TϣXs6[LJnIT~}rkg5áv oҡlb|Mf$gAx]ΰj#Cg=Zp"~ zk`y>_L댑Z%>M4 ϩ+&f?1$QVm>wD q$WItAYL0PGұof`DRdzz<}t"PʞFN Ix陝ek[ d؟&qtIߠW8)%-8,ot_"5 B ]$훃˾~g о\Q&И ik(zA+( _Lstv$3RU/p~Rz<,\^zR?d{X AL_>^n3K*_wC]ޞSH%z,}ԣ3HY?7 _d1W4> "@*h1<u x̶ו0Dde`h.C!EؽwV-B?U*[꫾NKR f4ͩut^3~KU'hԼͦ=Lgy=@ܻ68}oe _q&,9!@4{SG Nׂ 96 #3~@Ss|zss~l|Z4iwQx.^9x p!f<_,fYw3e1>YBٻl륌_\-Ϗ﷔U =,d"t{M:goY=)`)yO"G(l쿜e̞u{~){=\Y1/U\ -s,٠{~Ӯ^N,OpI??G';YSfdwOo&E,n3{^Ow/<|BS[7zs<]FS_ iLrGEOAN,%cg@<#'0M=Z At^E[}9 jVZȟW' iyMO(aŶPTdA:-؟K|(}>, /~?$'+|9KI$SO=XߒщQeά_0} ڎUiCg׋YVɉV7Ha0Hm,-e5b[*{`ht А'_.{pd殍%"КqSP{K=~rR~dw" Qf Wr˖*j|VMx?e٘[,V?yӜ{A4o+舩8~jZΘjJ8̈́3a{+EԿ_UW"{Qwȉ= o%!?KR`nA~]K ˩3?Ybw˫E3^y%ʙL]-8㤿̙Z#?4ߛȼ!gCقܷ(~ gw\!W,o9Q+0uT!~ <6Fڸoyڈ?lOh`j3s}?V^Ob\ڇ۸E/ XAƕ" Gz:ʖWljα͏qW? ftOwK5לB[Twi>yF>Ѿ>ωٗWO_19q~ZxOeE0ymo#8Gpx**؝Ldὒp轙{*y|>[L{Wvuy3QWo:LB c*xL^ K F?ק-b?8j|u>hTa%novlyXxN&d<~5jVx ߙpd"{E;$-5zBx y㛲̟ g!i!_aVγǍM~E[G6w<%ɠՎ= z &Fmp+\39f;^_2ysl7"{V=dB>_ˌg 䉜b_'!_ -JO3?Y$= >[O>^𴼗BXg?u? Zĕz6 }Zϧy,R%jxm|7ŋ,ʵ=LWm2  /}O޲z*B7ue%oA &,*OOԥ y;9{qʒ1䰻nŰ[s5^L~b#ܼV,-\#oxXNƳ&ACP}e~qy^$E _y7'SEns%qQ@mneヿ:a t z׊Þ*$,/z|ρxGѼc#4r<LM&jrو N ȼB{<~7'V+t9x߆U!zOt%RQ%-o:GB;&I|X;*^Gai-POˊ}?K`wO9+r/u+CkV<]ӿugo/coTk&FπO0+i9FJwhAxi4]~W"(~a{y#(uk۰_J1P܎ߧ椹桯xK;/k ŋz>~W(Fb)B;n 'QV@9yU,e;=߷O Zy^Ե6т Md$Rp-5y 7hϻNx-3賐yhQb}(-;q#߷~ ~gz٭g嬖mބpV9zG6cI Se:_gd2X,#W=OQ~>i^y!QWq>πŻ.`OP=yI05d/WJ k!4<@˗á3x&x?@LI ]njB߁mTQ?Yopg(E!M|BKʽ.) rLǙ雁axopHO ?k4XO-,D 3aK`[/P'zx6޷.ߣ+%hE%G2~tcA|xλܯi]@?"A>ؿXM(2ʹV䏬\./? (Ty/Qd_dVb:XxVFcYuoJdF=Ϛ.? FAiSamƧ ~>xռb-R'psGY='xEH?yŧ#FNQpSwŖ}49So,PGR>.\wRKz)UnROVI̊BDsg 1I4e2~'o)>gz<=Ui0mx{E* Bz>1$_Nnj ͻ婶X1~9S[+:s0{+_I41OoT,&`۰'v^V}m7g_`CVT{¼,*VY[Uꍔ[+9pRW~|ΧsLZO2} cơ_#N< 8Z0{Ifz!d_7WgE2uO)qUDZǣwkIWCm['>xc@hS k[?%}1?_iv6؊!Í|/s<>*Ac񙵴>ED=rwP\_x5t&;p)n#`ݤEɞD Hσ>ж *cJσ$+{ю`ϥNj8y%Jӑ|OΫ27E,/K\4=Kj3 PK?oOV`a_K-'`&nw߅yu_78ѧ1;փjtupSW/UEZ3~JPD~0ܪp|:S3 C %x*ID1ZӲxC8/DqhN;b@}/"|htT>0^~X}xy}hJ}m=D#7|oxJMO0wt"]zy%*wGbȥQ*VD9/TI, eOnѷx'pq2 {8oG7}\0ׅA"Vby_P0L˻[4G^1er}}ezS! û $}9::ABa3cz쏘ޱ姻@rLAzO-@}+^TnᣈSzZgt}yo}gn菓×!?f?g^n&6#@b;sGsq;2~L$V]s ⑙HRNK^@|1=f Bx_,O!_$t}tDv!zWǼ{_o'K}}X(O7*/ "NH?Ssڭ3`;UkUBOrw Q+z0=D?8%\lgJ{bz" ^7xꥠxA&_xk%/|d_DkuzZu\0/W}} 0$8BuO{( ۝Jπ~߂nޏmo"~mh?!:O_P>`Og@7='o?#Tyh]7D=/"'u=<}}p^}|5p_1Oj>p~weʌ?G/?asqg=r< ox#ˡ}y[pOHx$V%(<^7\t<ԷpSA? πxX DZsܥy]e*رgR8ظҸE2/Gh^ϼ8UtBz\f؀qKz]7|4M B {itK9帐9g3]`[8kv_n߷/|߭ey@?9yd[/Zv\ D!qx}@>P,f iY<OG֢|R-mmY1(3+ X)!_s0暯~ȿT[xMf;6>b2E* iMHVZ<=@p)٭Ż0;;΀pŷv5մ?cCur[K|u~'w!_}y,ݡw*A}m; N PoyX;L2ٯDyI* *)Nq*XDy= Ԛ_dYI >?X?ª>/I8'4 uϊ=<0ȟ ,6LPu?}W6vrȍ_OU"32z/2%"3XW wIPy{Uq,OQ5|ػI[*n%9|ᮿc1N-^h3x\zdۊgYX8gRkޜ~T1ۼA[zߟ:Nl|i^cxe (VP&J>\+3ֻ}zT1?|q̯yqzIMg74 =\ ^YmwZߠnS /D"c/C3!3tn0OyVK^ߍgL62 dE>٨D@O$Hӯ~_Obi/>]l%vTǟ_f^E絡~CD kX&Ɍpa@oLk=ɭ.fyHB$yeް5?J}6}>>Ǚcf<ԟi/",[s̳B\+8y†tûVy')!Kϲ'רx .ȩW/ӝxaϝe"Vc4 ógnpm~hxJӋkԷ:IΠDhɵ&o}o8fqy[|Z3Q+=ē5G=mDW˄_Mfڭ/ zק݈zEl2A&>!o cO ?-orzSC7dGubLrM+q0:\l?u23+w> ym;=J$XtOJHa+^Dj*(TmgEѯ v4*<Z_[⣾ `n-;l+BKlPO׿17s&^!Hn^_gyߋ%!< ^`yJ$]ΊRr:M]z7͇ dy}i|3NfctPHu |AfO =$,F[{/cyl?d)J  XcW>Z`x |c7>fykuOr':\krDM6O{x~W抟 7t}ƛ!Az")6i!:.?kޫn7k:\ù!Nf?}v}G|u2~d}ϛq9# g3t~Pҟ4K׍W۟;1'] Jkg^lq_n^h+SK{$Cew@^Rpǰէ/9 Ӂs5zY.s >F=ûyw^5{'y ~o2 D%[we4`dS|T^Dwg\Se|᧵6Aj8^wlǨ}7=}11W_h\a$jۯ5 ^r5X'`&V)PoLvxO@Z@D"ϱD89yOϭ`+kt?/c%bE(ȵ1NWzPX62tV55/vx};_eco<vr37NZ>(,]#oyX|/ջ Y~TgŠG\UOXLq΃%z@:_; ̩Q׫YPdD <@==/ϼA?oIyV$1:w/ɑ ŷ?\bS{W˜cRWv=>_C}KRlI=0| e:_<־F> [Ouf2-i*Z z0_>:E-*<}oP'pxƋΗ:_ڷxZX<>xbrC/[ף*j$m? 'vxS =W<@"}z3;[i}P^|cw|z1|Be\=*"?w/,*'b\ǚw<,A xT]?Pn߳ǁ|9[ Kd}Q\-^8K"Q3<_;]{k, rԫQM MDE&!?34~ ܟK>~]pRE\z P51{y`zt{wE:AqYD ^@a0 1LWhȨ:e0to2/lxϱ9y"WΏK"/Z!AC "7 !_ &@q&{탾 xR *]8uމ'x/KcB8惯/WFx/&sm_!>9Qئw#<%Ew+`<<_d C^lI ~L‰S@}SWYG|̖g2w ZG<(_ X5/|Li >-@, R /n_"W+rcg9<ӂӃ4-l u.dI%;=_Z?TN'`z!~a)h?u(/9Pm8x7b3>>[5꟮  犧^נ}9R.@T}7͋:~׹*|Vw$r o.șȏok߲"|h7j]bgoͷ،H{Os͛g T S?CO_ }X!QsGxbotxgL ]ƛ@\W GmQO" 7g? W{r^YϣN|7y*BD?վ־Tx-fHz+{w8~N0E`2 \ ;Sy5S{Dz%*^xZMT*'\|>>xOL|N_1],]Qym颕]*)2 T4, 'Z?ԵwbTI'z]zNZ=u=@h8/?<|f0[[th{>mrt_u$Jh> ̝91_ lcgo哴\k{<{q>j1[|Tw;^Wlp2ӯ s*<4%]2^5o  H>ۅtiS~GR/0QK$?ݣz ϸ@8 4} gS;ڞxhP1 G?'QyL/?S }6_a~Eӊ%u;gu}>Ua >ꩅr/d~oxwXu "< ِox,ouxaxX3ȋ~"P>yydc'}xC1Yo_ 6TY{>CIsK{n<䯓NuzGŤU|-C of$_ zy'F-\#)r%_8u`$U YsW fP7|ox "~ UX}j{xyG<) lr{}Gj"''FE3\B\ϩS)ofp_) Kl M&cC0g|O]`ǛҽԫLf8a{zwMb\$P>CRp߄aʧ ˘,aϠy 1)^5z/>p G{Jׂ߷ C?:Ŋc>:T8E}8OL0_Odρ/B9{Ly#x<\ p_%} һ?S/@l0ZJds} *ڞvॲXjT?KA$#os?0z7֍־,Wؑ־_B}9[z@}"L',}z{3<@o1' Iݫ1[<۩I yF:C؟cm+{\+cL֏?&}*? N Estݟ壉R/Nc<gpz|2;^~w4=+K=|o_/ G`mᙧ{RǞs,ݗ~-}@L`Kd~]}M=H1J2bzUD=sQfz1 Qk B8 MɇO꯼跘Ux/e>B|q>O@Ǘk~/.z녯QȞ{_x8< jKz^}xP>lJZ ޿4^'Gb {uZ3͕އ\={>A⣔5J2\!ҵ}=W5>cо~4{.&l~ֹ:yNR2ߦgjb҄zj6_n{t}XGQgD 3TgU#%/nyxi5_oryN/fg1_r 2;:W6zFsa!}:W_]^pœ-j>sUޠ;!#__ γY!N @~(T"Rf7Q&\O;^,aAǫϰI#iw}lz1#|%C7z2? /k"axo"?\Iy??73(U]*x'?N/&y+7{~=6*ӦYi-^n@|a0/1jRN;;G{6Ÿ/q_7Bu3r}t~.gƄG>|G%oH 6)`OD[=`W"篯֘(򎠞כ}ybwv}ͪ OF'S&{Xd2<`^xzSOs#6KW}8PxLd?x,OI+t0__$J]`}'qcW~ YH+aDЀY=K_NP ?_6:˶Cbv(}+dpϯp8y"`?dy/->?x_|{GI,\Yp<$o}&F݆{÷zJ*ϙ+gޱ(Es:|͖wmDY'FU/G^72:Ϡ$+t5FhSK`<\I:>o;Rx]$P9v)|wJr[ߟ݋Gdv1*aWЇV%(PቼPFwpgO_eH7đߞWW-+9<BP~ɯEͭ5x@?jAhO׃cV/aZ^j]N Kphu'&cD(yϮ=<\M!L{Id^-}+*uYmxy#_uoyN [eA|w7M'?rރfSo"üa+q+n+A&8p+U#\^t2'e;[ηҋrݯK+@~3U@/%D @?9Nj\y˜>Ib*_^^?S eׇo@T1GpS8\OcjJ>w3s#J\'ڮƍ(HO*W s-З'^ObWjy6kѷ^j_CKQ<_g |`W\- e%L߁Ŏ׈9⢻=ʻT]]==}H/fzߋޏ|"\G!x^捾#?}JWcoxJLmV%@ c@,sIxt~:} r+LzB?s^dB|x!gTA?~fyc <}<=1 j;^f|aoKcGy_|/r bGnOC̢ /~S(Is ~\O=fx@?p?@He Ti?\IUN>1vAzEUfL/ϳ]}ky vuwit^q /y>\5(eN< ]d/mK4') o'd֒N%~|-N#I>p##-/艭=2 Ay\r5Ͳa\ rQ:UڡJNe8孙P=eI7rl-.Ώ^F|hhߟa}m=‡]y@k)qUi&P7De{0uD~h:UΣg8ڥ?Oņv }}H4{\0օc^|"'MG^4 ~|@=V HR߾|/jIJ÷*kUn1Ͼ?de4.`N'rœzm,}Ξ7Y1ĉRd<PR=ΌVz.UÐ_yPzvFtC_r{Se6w 3Wn8%RmB4;}'B6Y qɾthAz3w9B:ъ%2gO2'4W@y1_?I4b#y:Zցp~TƳ)v'=^B,\ij+{ʮ_>gxZx)FAw& u}?ָ=%r5LY^8!w(>xSi·a*H@o g^֋\,){wjWېdyhY/k#'R𽬍^-x>oN$P#|c #CHݡ]UƢc7^蘿(u(k 7-u`Γ[?/QynB6`}}@6U,3Kcwx1^]{v'?bQsIXIP0:v[n^/Ubx xm~7!僡.Ouǥ/x}qkW?xq лn_w[#Ʀ⟷d߷u5rz@=Q\;Bx^y}y<voO y}v-RbᖗDcW62刟C1ﶼBsuz3{է>񞖇> p?'*|;5ҔGfW}q|6-xkiؘY?vX_S%7yvmRM bwZd<Ӱw'5W%"CC^"|;pė_^kuuUNIxqof>y`>MKͧ'N}nTCƗ$:fYo5 _??cW0u=pIޒ}!ޏQwuoo_".XohDù,d=-9LBA#pȑD{xы xqigrd )S3?8 8Bc5ה^ X >(S]$: j@'7mP-cý mIgc7 W9^/޵X7$=oy}w,z"qØt8_ fe ;&oZ=|/JrINSyyK ƕ[[IxgUpCO<7<Ӛ׈?q>mu3?xK^{A?^nZy> o7z0pi q'#H>ϦY׽R;dK#e;_?QvC^2v}xC뽇_\XvxŤ3)Ɠ^ ;-_{>5d&r@,}C< 1ӼA(H_z0?s<xwe4d 5]WE,laSO@eyLz;?';N]+̛+`[m4',IOu?a3?c|&Dr5=-y}0>xQ>{goZ٨"| -\ y^<.Ud>ȪԸ db?|*ǔ. YKy;۶y"8ݧzl6PMmZw?QN;L{w$dCo3 K8020T{o3ϦĵP%xUb|//<y]sr .:Gx/J2鑝R9{7}|W ]`L5-["޴z*2{v\"\M˃!Y{c c~γ؞"Q~p9ʧi'x2b%-ϳ-/h(V,-K1>kKf^+|s#D 轙^5 G-xq\`}ՖTݷ.y޷._y'kfAI|؃uŭx޷9wMՔC=Wcҟ=K}X ټgG|;hlDΤٟq?@D2e~G8cx}\W GygO4T}N2^, Vp30t^/-wkc [~;-x^} &ӛ2 ~.Xb^Xճz^uK]E!P>'߾5yU %_Yv<~Kgݳ~$ Ryyg |Ʃ6&AKdzovȜS񜺽!I3oGb_s}c6=j܈let9%46ÀSxzq<`*)1(>c;?*֦ldrq;t_QF6y$upz{sSrWK=*s}}x }i/%] ,MOX^(ymy:?> B 7r =ԃ?D!񐏢'|Co2_~Xxnt\MllƏ!#^C bf >u{vLWмooC ƚݏBTJ{. x'`9x3MG*Jd}߅ंJ?'r̟нɼ^3;;ao=E"[Hы~|n>b3T^OL<վ73YΥxoN JfCr{}1"c;;TؿFG[5Z^DJl8* R|~6T=I՟ΦE>Qcc%]Ciߵ<.=n}_Dney9Ӆ)K5U[0}px0#UJF3x fC{\3Cz3[^w< 30x7 fQw)n))+|^.0kqBL[x7Z\<>"mqHs| bT_9gG㳼Ҵn>|W㙿&+C[q驺^LIz=69E}f=eO۪ͧZ=S^-x@K0M3+b_|q@? 3el.ӿ_k83*hM5$?Y[}뼯 jNVN#O'v/>ѽZ|>BɷYQdد< sexlY}ϰr`d/A `ByeQo{/@ Lz}-Eh3> EQIOyڟڻ 8K}Ď{ρj/<\Бl7r'ɤyK?GqZO0 r6}_G{yĿVy<{Å΃ 2L7}7Mܒw?=$=\+ +֦”Ji/M S-v`'tuq׌'|y>dnSJ]B ]YuDe{;>o4ϩy@xjgqu>Ezg4k|۬Z9K?CCwLKy{I599j|>gI=,z<\_VGlP)&')@BmDsӋ}op˫#^P\/]a2P;`e\n^:>!-yP>CEhBΏ~y6'x׿Ϝ~Arv x,wh##lJq@zO0<|'t 'T&#Wx_wc|Y/Oʬ)Aថ)%?o'Syg<뼯\{(/KC?`Qx>, T53ol;hrp^bYL$渦- ̩|ӿ }fp8[0sW hQ :8#˲-gR_j[_x.ώ'fR㍝-*ZrȲ@V..sw:B=o#' 8ށ!*S~`&r Kr\lőOw;{zA][j+xb'3]]*gvB߽.u9GOxF<1[/J*US/O8Ӡ}}=g;p %(t6t^3~kyx ]^%տqAx};v"<=?D@&l\/SUibix^ -xoFs6O;T*|?i~9ׇ}垼*n(< n ^{҃8ph,o@=>r>Bl ]yH\J|; g+YĎ֧=JkP5QF7c {!Y%~$>Y^׬NEMYT<0!SF|C{CO8J*SPAj> q*yPh|5ŞΗ-Y#N#Ȩ7T1C~y,zfp<IezTRe-2[B%;:OFpA-f^y+ oXDIAOhly$Tp$!:@_^7^"CIk XTF=8ھ:g5,oъ}T pC4!27Hr՟u9*(>2|R,| +"x| 2BtEx,qܖO~YWa !KO<+~g[c_a+p=qrd;>pLK6&cῖe0fߠ7p&-/+aAPVԐ#ndyy$eV1&D=?!ZfCYH z<>xy+ɤ&UI]H;^ɕϗK^WS-oR3<}kŽ֏5QkӐ?kcw</5\vx}~\ B nyL6܈BXݨ PD=ucmP"j^!f:b=ܷ'Y+:x]w`}.+Nz_T# q|FྠfԢ8DAʛH.C x2Gqzq+)WKyx:ow)T ڤ/62$3^_3<h"1g5+wHT?]O"="sZ̓Yo<3_xۢ9"i>Kl=t.Om)HΧy }|=D0Y7.n_]a2uARTLaY4_^x+D#{ۗw3ި ?q3"TOW7Ww#re/jg7y4!3*Qفx#0jAߪA+`c{b1}*#T{?U g||2T6@ݤ/s/8*1!_ޑ7aL?a.x:|3>b3Ǹڌ~r1+TtChL2ŗ#J/dvtAzWqv>pA{" mߙ]]ΗT%"ȥly/%W?o W~Vi~e ` h]/y5q~~?~حaD)$z~}Lj7CxnT>z-~:jr<xx?DA5oUҺ zba9>z]h`O@/C}܎7NUY<x% Ԧ,r>+7[>4xH>s[A /z [Mk-u>5p~Fd a8a}ףpb:xx82E_<o, P{d A*jdy'Nolv 3C?"?jB}}vזWn!{cһOӶ}(}z5EG:Qx CTo|0ۗl6 f1W'H1'CLr>&L>}*gӻ tUD[2C}鼯у?9T(0r^-E?m=E5Ca/A<;f.2%r˛Oh>À_>D!{Royv|OQR8%3@~'zѢ~ ~h yȏs!!~ÅX5OFI^*?B=}|/1> =_^б}Bssh?\]2RESgvf]LE䐄8f[I4xkY¯$ePltshgދ8W)gm"veھl1&3Oy>3<_"4/9ІšI߻gxT9O4d/x=;nyLŚ9O6O{T!x=a؟l'Gv[N(f)/:I{ęy |{Or>R_ /ThXŋ  O=Ũt^ң +_zc(>xOG^ w|gq#H.iȯE *^P1%Cax '}y@kD.;Z_Гax)_v!<!O>xix`dNm_ʻ,_nׇ₳s:1HP)|ϛ>|LZ#۟gi<.' Ʒ7yo:]؟S|fIgt}/H#8]Ë;%+V=҃_绐#q߷Y1>\Gl=_ʬ<{qi>p_L! }}a Ui&=\pL0Fw4Y pʔEbxfU@Ń?7@ko/x0e~*S X#}Ϡ|bRЁ9Lr߄}UU9O)dϮ'Ҽė7@?DR:a$&%T<˳C=Ϧ|TЧ}>PDUDrq|}T& {i,jMy` #WA`?>Jrxzkz}GoC'Edt-}኷=d}XEr~(d+fbRhuпRj ^PL Ȟx 7uϳweE?iފ#֨'LL?s=A>3Dz2p~g_',Jз 4|J}!z YhQr_yb-F|/b [+^zĵ%%u9<;yj8܍l=Nyfz qzy 'K fp2B S#PRMxP?%viz33 DS4/d} _CdW> S6/c6*(0xO[ŢZ<@t:83\Nb0JOG# ˥7 {L[' Ͼ?kt{V lIx3{qj~/4ˌb,񄺴ݏ7eD/6Xf uHez;0V/mxy'g7=GwwYO2ox5}͹7}>}7{kg{S>"U 䫞yX=3)y(A*d':3|f<,,!tߌ7feYax=盞",p.O̰PO>M|yu?o|p.O Vwꭹzc~B?uмH(+6u;'+'MίdPˣ[`зԂ*[uS|Ӌ/ |q> WW*4?(V`O\b@]k!DyPy_>dMvj٨_O^zZ%V*U įvs|+c8*7aV6`x$wg!ldxK-'/C. 9,xe W b ςa,x)q?<4:ڳ9=s}~{ݬH_/*69JLG؀׃ oXG,KG=$e h6DT{o+wv:9 G 3;з%Z.E<y=o<+~)q~3:w?59\ކd(Af}E) գh^mCM/G~)xA]!8/V"SnslZ BI +D|_&EQT `SU) uoCT"Gi&pxA݋hAOGq_?gӑz_U@`%'{V/=Cޒy&`_1{0c*%[$S_쑧 7%Y.(ri^{ү˭D@z<*,]G?:'03gv<9ˣlz_ G/<\ ғ8^Da3d O_1UCAG9x+yeq]A\uKxKI>7LK>V3|u >ϟd68˫Q\2^wCs;a/$KP*:T}oK:6<~ ϙh^̌{3K%@8yҢ*`;դZ{ J~j}y&`[y>_&|Tr>Hk0e"bp.Na@kFyΑ=O`=؞(F<~i:9ǛKz}iGNi7w!b߅y}92 ߔ9F|fd_DOz:ڟ8f<Dg¸i#0'7C?=EiH7WɃI{Imdg/ N;r|./Y`svcmҶ׳i?" Mbo-mC()c{< į_x!^ODhxϟ/~Pxr ~ܠ@\O$/EJa{N,kQƟy \;2臨re1ogݍV~5-+?z]h]pT){࿗2ϓO^q!ҁhiB+{zv_7j @;^R &{nbT?0#|M";tfmkF|ܚ"۵[pӌ"۾19̐֙5+FȂar>4O4c&0\跘U<>%x!bޅ h=~ie}Ȗ>Oo34zHVQ 牯x?,$p?^`M<}. uyYH,;y8_=x?< _5~d,Lޟ%'_Y,jOyB\apZ<=SG?{uWLHϊ'.p;K)ͿYk+p!zS h~xf=}m8}G@|vͿ=/k7k?'y㒩BO|y!~oEao6Xfb'&P%TԼ6DM kO+P&Y6ye; ?O#~ 9{ K 8;dT;=oâ[!>l7ﺷo1/@A~o}ä,$N.jR#۰u%kR%Sx ?m{̌%rJA&>l^//|n0I!4/IVs.40\a;}+V[i^>"xr}e_kauz{ny|y56W=g f( ~КקσNePO@=׷/@=o a=@۬ÙCȿݬD}BSam̓w7bq={A?3z =l߀wzښi /҃]b}@&fσMcy@|^?}F?L׷ý=\#%G#@i#G5bu}\I𶦟u_Cefk/t{8g;jv|⁧U~)2؀|.J_/o{+o92_~\CV?ԃ=\Y߇af<y|˰%d>לK9u;7-w~8Fׇmgs!$r/Y=cxjV'wAI܌,,eWݣd4U%hw-{8Sf*?< ?cWI^z;<}xv,˕P3he/)ƨIx;&B!竬V'CPRTu0o-اG3mAW*ec>!dVd1{,VIM}\ś p#]HՇt|->4̒<+Vz">{Wq{'B+Ԟi__1K\bʘwx*x+o_$X*ʯu WVW/2\cWG^{}it݄7来n&{嶑$_QK)MK흘`"pp;b>cK6xImɅ$PYGVV^J1@Ab+О> y| |G=F785cc-OY9U? >׺W5||'EwVy{zю6oXi7Ïӿe0bܾ`RxEj5,T+J^ʕJ'R{/)(K?4?ܲ/Ͽ,f2]Cm?7MۆӠ862F1UU4HmOݠ)Tʌ4U¹8x4p$WG SAMIG c:`dBm2`Tr\˗JrJ䋵bt]+++JT˘) \A+?$KQ6U ?5^z$33Fe{{}E|hiE5" £pD_!IU=˜dmI rH Kq!yp6/X j 1|.@0AlpfDt4y" k{q2.)i\SO:6=JkT.33܊ wi8Мk鋛 B*Q7 Eϭ'cZoA"VѷQ٫PY \*ec0 hs̞0Ch L;ؔî)Kb ;1\(}Im؋2"B⦅^q6Cyyo ] ]8v+~N>ՀVM@Î;Qk 4TV,V|kF;2a"94H 'K,k`‚ UDM{^pV3 e N-GVba!0`c>Jy]p0c]mh"WKu91U!xy<͒9=dON?vtn+fFgȞвnnb$\m a7׉e/ \Uao]aD۷;ѳg $`y-q=Y=^o =h ;CӯSi6w6nel Bx3`hGVWcsV"yP,AcL2GQ@LD?'x?hǀ2} 1{[X]pQp{yv;:=ojpP>2j@JHBkWpd6L4_#͈7 a՟^_5d<UDXr?bpSEVO\UoZe}&YUkXU,VW+=W?ǫP3_O+ zw.gu윯N*Zs]Xe2e^Kj"6gXO`/U^][V,Qق ϟ m()y*=Fy C_u[O7ZWRR.6g]K (*1sxj߱'`Xr+eʵa-l/=O6 Nx'Qߣ2_)SR&6 ̓{<KFBUБQ.".""+(?؟q-o2e.AI"# BKꀤ6:ٸr[$G+̎E X<"Aڪ0ɪܿV0dW|g%y:뿴WIK9hJdٟEgYdٟE痛9R~E痚YJ//#׳HCxN$1q{M]db?]!s\Dge~~rr@/xd _>Y5tQ'Dԙ:Qg"L~׼c*q,g않"c9"C!?Df?V xV"DD"@^߯;"d/cӿEߵ<{E .xD`S Y|Ъ!sȐ`(ija-9yM$Xb9yQ<6WvMzW%+5a+////?߿߿}E~/sݾ4̮%r8TTzL k(1 ׿p ׿p ׿p?/.W<^*(xŽĎ'JQ"KT@(""7ķẘxW/""[G@g yYn ?bsF|]K+Z(n a:~fsvˢS;P\zGM#-HLDs2|5A7? "tacnѩf‚m1}a.uGNe6oaK23Z6?4m:a]<*+K09ΐMH[s`X"?4aCMf+S7al Вk_=:er0 F3z7+6?M41s3"3Lw0l1Iv̥wPM4S5lbFN !K82>=5(`5>4%7< |)V魴[4`T35-4r]n0Cھ:ܫ2(`9U )I fSu(!v8:`j-7װAN,ceO]teg|bRc1 c鞜D]Luբt, m's贈Q"0 4Ԯ frqX#m̠nF 5 |rܑ:~5mG H\M-rrY0#1֥۠A{aN1{͢[-sY3^S.0-: x\4}˄w"' k{d=rÓ"!5& gz31u Dє'7O<0ČSYc03/ˆꔜY=1u5cO5@UǠ6?4%9lIF K,I\َt{),La\_vp2gh\ ji|YI2)KڍaɒвVf f,z,hBڝ"`0|!1Ɍf޼NmIr,72Sh$iͲc:%T3LII˗g9,$ՃÎ)[B+64ZWlg:ڢղb;ÚOla N~/D@ҥπ&eEl$) --VHBI  E3)I2 %3PHa2dCP.8,|#%ޡL&CTM58Q^<s}LIړ!Z0Q@32⫸56濡;y,$Ԡ# ~k d zFa9ûsernNcx 1jK)(,XhRakQ]+2}`4e-LcUq[Vm!wYe(5B$@Gm?GVZwk몣*ZlUjZ*]KHK UCx{]y'?#=!Pvԝ PJöc-*4}l#c/˱y\ 8Ll~__p巿in$QNUq}%U^knMS˥x613G!7uh}As80V ep;&{=Fi2~<xFM;vMV{f`T֐נhx2: @~Y}o4Wekh䑤aig45`cIZp= bgT xܣt/3¯|=Jb,Q(PIӰ xC薒(KR`sF,Of&n_P%c`xvޣ O\H0t Sb  DBhg J恞H?.+"?Snoe؈ۄt-z{-q[ebvOΉ܈幫 _iT@1/p_(WZ!5Btޅ/ՀBNcaP8lkX@D<i"c.fà*1Y\e=s-1n]wtַwH0͝m˙%4Asgou _`w|0<1_.b[u{q(~JoWB%s0;%hsI@LI4K $')J3|17~&X T=<oWBW?ʃptg2|r-Lƙ`>wH&XAh6m\ra`x|qVS9&L0dmÿEQ9'/e<ݒ^G RĐ""p8 <?LhhaaaUDY>!@+g.,aJI!\}%*U&ߜװ!!uJV^L?A?A?A?]W,Xڟ ڟM\Ÿ'H|^3C;w@!rѳQlqiPj٧B׷+rvdrs9T"Eb}<5eL8 (aGЀTUD<-+5:܉vQ3G)+vݎe}ha8+FiM hN1_sb.r|h+@)SIiChs_wY i4=h3hQ.O\#y ጠmmoGy3f`v_IO~ . I/DDB8#t43[4n7߉tuF6\,ފ޾B>;%]K!6C,GKdTt8/h}` E"rEŀ D̳4 "~V9#A̳3a4'*2ge@ekWUU5D $3UO+ljJefRXF[4Q$Ntk?6?O?tN Tἠ4S@6AAmSOGa猰)g,mH~>Dy6@۔E \8pVw"A?p@'СH Dl?"`8O|qQ⢩"@ 6 B2C `wF0<0_#E< ݒ^]  "4 :^3A?"4?цcb6Q>4,UQckk9[bgIei#QrWacƫtn Gߜװq?W N 5V(WPWPWPWU%kӁ+h[jz6 W=x5QgHX%l 4k˨+(z+4`-PkU Xg|qd2.Ldx&R5Zr *焇_q"OH+0 pF5o[ׄ=W Ov0<=Jh,P%]M*1ysUt+'fV`TxsP*\CVۍSEdG/p@@ ?8w?N{oY5ƧCNF`ٶ*gaր`Ts,]}g:)Ǟ,*܉,N2yNfyNZb697#-87sxÙXu+L8Ƞ̱ɫ"˷iRuL%lx2]f侌7Tܗ̣re53e1H|NXc|5,\>)6u,MwcVvmXK颷bVF*n mXڝVAk_'?;!) P b~^Z|o  )ExV#H'"N#'b@sqP8lkX5|:%N1_\xZvάXY"FLyzXlLKc Aib4ʙ4aݫ-ÿ_$$<% p|q KY856yJoWB%?0;#hlr lE'%z9A 6 J߮/!)d&ኹ3oE=,L۴ˇ`x|q/jC&^6[>ywJ0<1_#[y%2kA !El!E aqxtfz%?цb6AOyXD*f+qix%*v!Yz6MA[MOaUQ:z&2^DEJ*]B[Ĺaͩy |O$OB ''''Y ?A?]Yӛq OtyħV6C"Ƃ.e^?+u\FpԴ? =?AM?`pئjἁ-"P%P P24$mq@CȄOX4s ?B 3C ?O'd'7#kBM O+\'RLnp-(`g7Xoziz?Tf4Ӏ`T8*X,t*g L?N?进p O-fu5?լ )8hs,QɀۋW-& IJP/ +?*D(@)!Hj>K??@O@PZ4;rVxijnIEJ01tR]"BDóqC* h^AF.;.wHxO;"GbVyYPh7{QJ+oe R{ Q)`Xx߰[Lvzje*s3ƴ%j&Ƕ҄x\ў,O/lLø/)U7aRec5-COA$HԩLp":ۀYX2>;%g*Ij6ReXvcMP h;/b\~)'{/쭘\W[PXB4Oaw# QK2yq–<)U]jgqc$2\e^Ӫ˄n& 'S` `"O$Ãpy[L|ɞkX@D)!s>e=*GudO;:*_x(A('u u`d"K|MER{MXOOS FN;Gȷ9*IW B񝎾6(e[]Ph &>jH㧘'D({ O쫺KS55ƚp:ky߻?Ĭ~RМf˔*1ɌΉ`S6f.O,*S/%ܩ,6a_/,^8I*KRQN# &~KHRe ۉ= l.VK nOjY2II+*WYL=JN,V!qnݘĢYh rt`Kk ˖ƫ5dI 2t6lPD#PD?gûvCN쐊 ayB>g&?>uX9!6b(>@ Z}A>0ʂZ/!2X@@D4BA9h[?V*$. 拫PZKq&@(2-EFED BĂJx4@3x{H#ra}K8=G*Jy}Ńz`eOY|4ITV%[*&p\H l$Nzb4^ʼn3F^D X"0nA/k*xB:'ރ0_#nt)=e#׊v P" ?ޡ /x0;#?9;1ی0ai؊\D'ͫ8 R^MWEPesYdM\N-LՃCD-<6^*}ߜ$}װ!j#S-pppv! xxx3/.aŋC&/ƦGFjb_*j/b8/n=g{XSװ!#|g(?O` 0 7a 0*`j1lEZY j?Cj4r>2ig 1'mbeO#O &fq\QEpQ_Hu_ށQq.i8Д4єii{L '=r %S*^pd^z8]q2JLUL~eCRW\QNJO*D'I .dIRʐPߥNQ\_bQ2+G@_/wb p/Pd\/xǑ,ڸj/c`~m_αFfǙ>̢3U(`@aRq@s2LFaw^0"f3ep#7'fųb<4vƴ8KSx9_go ̔%Y ~/_SC_!F@(/~ _@UWڅܢ`M5Q]X,dT a" F\7XoY8`V43&Q#(7=?$W>[Ы~qWwyrn]/H ~Q5:/bZߛ :yswY zgS}lQ❩}t%yW~ݼWdC:=no~΢[o [ϲsrs~ჯ`lg΍_xFnQP'޹ޑ&,yGQ|ZU ;RoWG:Ynڱsg? Ypٺdn|x A}(>V/nIyu?4ֽ(ق4_9tF͈%n"{&ںv-#s?:aq̖[OYf)pl{µR{1uhx씳F$I8ݼ2CW_i?uxi^ wO?&L;!˚=bтWjxCй=GxP:zg7\^x᪽ovn^v>ݹWw 貤 95ԕņ>U[ΜQ"[P)ze\)!ݖ6kĔyJQ6zf[Hhf\:𳴀'l} IqV64utҥ}*Ȏyo}[4*99o$7O:ռ7<Z4{\^a^К:?=Zỷjt~>VaҞ vF{hjYcp/RŋQ+ԫר޴{Tտ钜 S:0/j~Kءo-mˠY[dm\wNH߾u…BWp{a(57.g_^鷛u;i7>IU[,9uv|nQ간vϋ/1E׫G=|%N:x*nԫw;Hg}7}v#rFͬ/* LUձ?7b%Ng?ule3o%θ9yr+/rzoT#? 4ٶAĝ֥8}VA#'d"ge_~pƈ/_/ٻ ?ɽOC}g:f xngA~}0?/OLya^;e8$mzk/F\2|fK bKQ5*}3=gL~}Ga5lصQfhkުeK5R9E_ѱ;v:Ą)'v޸[GD9&s޽iGn]3pv?ݿ7Ӽ:}Ȑ߆=ԲQWO[vۓpnQzUn}?mqGiE8t5S8?ܹU'ߞy֡Ʒtj^8qaխYg6)ڵ;j[I{~ u[Ouk0W^QJXsG7o(s@F?Wᧉ6lk=77_ru;Wl/QȩsĨWu5H땾z.Muv)^|Tv d-x+! E賓yΊ?tFO{tliNBŠ&_}))S|%gǝ<7}`%oZ(W$ywuaȔ||`0lA{}}+/-ұͤON7.xjKQ.+SsxUZr/{{w3F:{yߥ>hn؈Jw9N룻;[|7xHxh/bG׽^iNﯽ.U˗AMb6ge^M W/hZP[ufW,zpZ]>iynL+Ogy]~i_]0$`OݾG=_v5?ǝ%4:仑w鍝>k?ӖAG]`[}/iKaʢ_Lд?Znyq'Qo8d+߼1aIv*zV[}]oLZѹ9COޕ)}cea; ^Cwη~GMϭQÇ_;P4o3[ojB׋e[/ךuwsdo7V{y3sV>pZɫ|#CLjq;yDFftyfD9Bw(yiS ;ë/=mY\̭1cl?4[Qsp)w~g"45ݧ+sRE1{?H)Wt ͆SmUu݃vwbZz~ǯNܱ3<Ǚݏg򻬚568 NbbFK"xzY1T-Hy[SL*r𼪟vdpѩU_JیWyc끋駷'[}0ҏm{G|si:56ybvƎ rzn3f=Xx篷3V`S@k VӡE?5iأGU}Z9v'~0q_xU5vaQ[ߑU' H%+>~{aaݟo5؃~:;4{N޻[6M~8~*ӦM+k[sis+"}tFY{7\ ܰMW?sγg";h.00"6-{OgNQQܢS}/_WŖZ>UXy`󵖵+(:z]6}jh]nbH`xqH8>q`uPy΄QD,_-ݷf䆃x/sak?oYz.ԥ:3jh]?s 9g'}OZF%lriӆFn XpzͿxpnh< 9)fmvnޏ۞WԽvjhG>'U2նfӟ漤_klMP(Yrל˞4ud Uvc|Ã{kԌu?y~?^qPvb]7XNǚ]7 vT/,\9R-Om&}WiTz: 3.yKOzJ zЖ_{<_z~~In\m)8rZ{.n/iQ~/;V?=kfF[vy+]٢ͯ?Q?yvyܘ|_6$j̵nUg?fw>ؘUlsͪ-^x6SZ9s5q<'S"{CwI9F\G6nǿ] z,@4$ .Vy*]w}ox^C W)Ē =8 /A'3 E}xD_vw!i:Nfg`9VxFъ =Wn2v:PmW%e-NoPQ l?yi|>Nri+嬻"b=  QGe[T ?0<7\YaÉz1ЯLNzs#~Gy٥`| 1wl2o˗QoD/ML)-fcG+dzʝvr1?h٧V[ٖ+%!C?8^(&&JBiu"̻C6nXǞsy{oC=*Eg<Xk  \&cB!larbMڹlmuBw/ɓ [tݏ3LI#`UPFZy'?MT4xuΘ||=CxL<BQE㌎c Gz-"x+p,Z[Jl,)8+!]% ]MNxƚjWCFݲno]ӵYT% k_+{.?&&,~*Bװ.ESEp, 8Lw!$Wkm?VkUпu[^(s[\]Mk7YhY"ͼ_x[PWe5Z0bhu"XVV.xmOC7jTt J}c23P\rf@9Y+:l$kKddd\|y qǗ]ϊV=پ S(JeWsUѴ{a|B7weLnbbb1*CgONԲyyz[: ;ˬߖy`CY ZpPGE\"߲E}/DQ8rVK"|IBMiZY{ihjuav啕!r0ݡ(ぁEN6 d"T-i{(L/Trm[ᡶZ箞J#S mǎܱUgV}'Qs<—2es>vtsON낈qת7Ä/T~n~ĕ<˫mX 6D^m?^CQaiS]ΓX3/!v'E6dGH//Maf]`?,WMmxV2Qvz޵-?   Ir/%x ]&Pksޤnw~KPp/<+mmO?yd _[.PqCLk 7/MەvB/Y!-2O`4q}BkYQ[Nр^i}{_YU;Oܾ^ (}wbOOl[` : 3iw=K,]|+O_ycciV֖KC@!RfFgɘj* -N:muMwNSՠ*/>F/۳O Pvvv=1 T)iRм)~+=s0Y{t6G~H-Y|؃)~YQQ9vȬJ>Z ^{6rwtttbԎ0R2 ɾF&;pxk)hn&5HXti>P[xJ,(Ã|9=j+\[I̿˻ȑᙀlg R{XkBcIUTˣۅzF}MތEІ[s^gx{;&X]t1Y Tzy.,KDQ)k5\27s{x_a;Wr_f3 u-[<,A_縳 *[㽍v讀UԖ+L`W$ƢU%1Z/e%)Y /"?|d-Dވ<%>__:ǼOhܹ#ӝyaIn~yEfkq KUI]pJ+~# h}dztZ@u/SoÒ\bAخV ǝχ;tb:x!-Kȩ C 8@7x}ְ9Vi5D|cP|i P">,j~0A}:odb*޿w=;fB:3Z٭DR܃}[b;RگP,Kn„BaW 0" !rUרijEP/왕)+`u͜QAEi$}uɔVh\pS_mÍӋl꤀,ϭ^o ۪~ S[)7d!j|Q2/k%7zA/Rۓ"..6FyծWmpl'Fgޢ)C*IcL:}#*m:ّ:hWGh "nȗ?~ocbN1/!&t&)@PP:CAPP:'8 p{_L%;obal`%@12sp}ӂ&OO ﳔS9x?%0oqtߗwj Wf;:wA 0!G" }sLeL?0nuL`Jd ͤ}$|qo߆#as,쿤85?=:IOwO;ƷE$ VlyZّE(B۶*hݏwvd>mL g<9qhia7i!1`W 7`kpVhtF6ʌٝMo${%Hӗ'npsQ yOuY?|LFZq+K?$%i2F14fhL62@cĸ-S8:*3f]SF5wXB=N3qtJM8~k^SL@@H|NqĄz@S2Db@v9y?DJzJ(\ |{+澸s}D>⾚qS(1wM!z6ֳ3_ EP1@ބI[J"2X83լ{<މV6s4+\m1f-8a|ˢ/~o9('n??;M'Ǯ|soB`t|L۽3>Ɠ1X7yJz D -oCP{H=2_K,=/E3o NBP:ϱ' C"տ, `׌B? 5҈?pn ͱ:MkϛD>~RO0P4][ÑrFŬN|u(G+Z?#ˁfi0Д]C dYe,@@,TJb 6@֖8+NCXk>u@QMgH4? P.OsX@d}}5-$DJ"6X]ƅs7y1GD f ڭ|s[aVJ@S $#$(dF 'mqx+5o97H` FkRo:|`7- Hw:NJ~@:h (I- W x/'V>8HkIi-勇anG@៝B>hw/{ʓia̤#Ib0 c3`R£!m iCH@>9 Qr>ᱭ;iDѾYq*+4m@d Hㆤ!0#1XW q?*#*hP\][r PKK0MH/XO@pENQYBT-"f&drͤIڤە&3w{洇 z0luw×\7iR2XVUA?ZW)bi2FZj xQ7F%\Is9 :fI :[mV y(/zi$J:?=>nF˴cFDu@E[߈NځB"{[4+(#h D ]T@msssF2d#YC.- o}~'w=$"0M$BGe}".ch77|JæE)7j`$S@b=aB1a %Z55UAZ.B9JDEITR*,BI0Q z03;X3/()Eә2N: ?9fg`g`g`fj3p?sq?zd st 4N=Ӄ. ؑq~n$hcrSѩT FO덑Y#?P'W~ +pe`]e]Qw+FQ#4'@ ;;^.@u5:@A@i xUV[S` S2l4ƱsIjLcOz?](.#_YzWo0C??@!GoL}S pFcw8XMAA+8 ]QvN8slHp9&$,U$vH = ԩE G F+hpb*9V8 ǃW$nC1G jB\lt]WwZysw0H!gu(De9~6uQ!XY9-?>kT`r9qZ,H7q<5uQVqaNځa=DƓMw^⪈rq>GXz(z3%ݼکY\ϊX!^;QbNk'+Imz_ojg#yZ;Vќ/Ơ7K޿YWV`!S vO3tKetfU(|l*O0x `w"W'ROL)fV Ҭx?LH!I)6E<+"DV L?lȑ썑^kOVBOmBDqZ=hi!e@;6E)g@MTA^D*}.!UIo Vz%´D6<^`PW?f e$! ag#Ah~01.D/@_r:Fb@3b՝܈!^r,FgBDG&KSȠG9=v#ҝ~E Wy/E~I7&0 *0!Lʰg<1x c'& #eFi:!ޤYI=Gw?22a"?OV>6@ =(?zDHl?@C4C kw#gx?DCf @z$KR$8L\`HDPmJE2`t2dt #L`@'O?Lt3@|ǁ~5O$K*!@!e5 P8Њ1@DED ` nq hd@s\@h)Z ]3'OPu@G.gT2 p&3A30g!Xqe1'-F0sTjMM^v(u5^ `bh( AA[]qZV~ϥH֤3zƴ"N8?bI?&I/C?b?R^^sRo*19aeKb`rM!䤉ߴn}PB+ԥe,ei>88oLMA2*Fc11քFk1ƷN.ꜹI)8fo3) (3s\pѿd,U$g#nE#Nځ#DD?DGFH7AAz&e)RAq)ͥn9`JscFEw5BCJ pSi.C1C1$_gkg#)z .bmhSFbFcI?&Q l$aGS ۱VL%hiqB+e+RRJ$#B!`~%YMP$&s7`g%er˦+/ L|:3\LID/|Q-T< aPu1PPR^u=n4yZ@P{((E.=r* jYF`o4iu0lIv]K57k1yZcbIk|"Usr(` olr%ᯌ@ lHs?>EQj1?4W%1]ZBϑu,N=S&F% 8fA}pd}R_NJEhaGff%`K!prO..'hњeJjcw()Z(kL03 К-RaX CHĨ.ɨ'd(bO@*_'_':.BJ"ui4'<rS ??$JJIv HJ"{E.p$cJ|cokԚg#ɶԆ΀[8Bgv[)-ImUHyG%!Ĝ9*)!Ho6DRC@`WgǢH_k2V3\3 RZ:~W~_~\@{Li"y$lΉs [7-g_CU7 ̯=5}T8`PP\؈# @2&I<"%VFRFաkF!_O__d7诀 ҌȃH67]=_3iW+@ 2N 0 aıKd"td@Ԙh1M$N<0O­!";!#; Z2.'MI/5Kz-J??x?p|98=|p?\p'85e+x' @d1D3aZ @DvKQv4@Kq4Z;NI:STg 񿲒zB%]p\׿\]3I`+\+LxZ(o|)@)6r-2NbLIt4vats8KNZ[ZWPL̺V9xh"{!04!>6QKv"v(=_[Ϲ NVf}TIŇGMz s?t>,B2bK.#F1?z'ȇ70g#i$+G%"Eg04q*@"_sn J8S|UL;1Q+6D:A0._=W!Y-嵷1V{yuVinh$%+10&><#$R)TCrD v662чZ|ovȄx,HFu(RG\mL j_C& 0TL/dv#"n2%n 8wh2|;#}UcAeJ2FE@+޴`-BZ$һKkCPЬrYQDvoqT+"F I/RR_L.8.֫,E!0 uI~b647 J^( ^CP|dF`"Ć)b+; \\H "EE >(oՕ1ԥ,:ME\"Ez(/$mo  $XHOI +FȊZ)s6$1"!FcraL$6.-;Hf>gن*W(#Up[Jj'<2!&0Uډ^D]y.75G  sBE3e+ޙgjkBݗ<q #G*%B|XeZI, `˺6FHR緤Ly,$RP1Jʈ1 mj,ޞD^ ˋJ1x?MdFdg,?ꇇ<;o7=v7I2#ImʦqT%j*Lm^hl}bq=:HMImFU[y!P˸,\)p yCPm$=%ncF(:/Kt3%!!#Z 4+[RͤE3 (2DݐB#fCp!ABb] X.xǫRo&%Ѫ> Mxݕ6yafd))] *?[/\*T3==t<ӱOxuseH._۟"V;AR䱤H*!.% X~߰U**hD i緜Ny,'R(t щTHN/ޗ I' ICAV䱬HIHy~ Y-5x"툴|dJ˸^Evp"S[$j/ȓ<' !h=B!Lf~sM1 GTf$1v緘j$Ȇ< ) hp'o / /Y.wĒK^vD7GˏTtPG4Tvc!"mQ")>$yQݑ$~sAIQښaïb^2f:(,.f+wf)Iؽb&YrĤ.1DC΀fr\_CDVZ=B +D3Q5 hs&[|EM4Ɉ≘{:i0Llg~Xu ~  li0F3akpp15^'?h 0*nҠd2_٨Kkj٬7h &De)ƕ zAfDTtVm?CĄ FjP,nHݾΌ/H; Fyg~$0OwIɨJѨF::CyYS6C YEDho\WBC>}n&EΤуfFFaTXU2*PXo#ƗU+։֚V[CqmYu]#}P\eeD=nv/6hsQ^͇[}Dl7'n*@ЖD f~T+$hA vhDʀq*2ſDSCݏ~j;#}҂Pj=MGX~%Fo{g[AC4n16D+߯^kH$nGDa!jLa!jsW1h֠<<꾨LH~vHP WTU=K{ѣ &Y61Rmps'\.:K`ârhr'Z7V_g`82S=+QQ[)9Z.1#27KѸEC7O^H`ZQ'բg<'WC}?TL:ĠT6{k8{cumu]U}t@jl)N3f+j&4TE?VcjcįnDG zHZ}86p4V|1s)5JTY'5ثkIJ7Z'7G8^WhY6k63V{muCzU5 努V?nx{yY4{(s{UM}yY IEMYCV=^fMn턪*kCcF^  xQ>,N h:F2c` ŠaM!Q 47"N R /r  Hڠa߄e2xp~Ж kA qbq^Z즑wp?GO>4~ فtBW8t) /Aь $[y1Zhj h5q2/mO I`om\; ($K);{H8s4Q'Fk57Ў~I,4SfRBŹՀ"<>NBҁ ^YjexeUC^_"GhxhsKrZjff\0KNXҤ&^Ky-gJ4qIJ4=*tTlIA5笒~yIoK_%h>0\lV{Mc KqWT6{ 5H_gmRZ?qI5>'!yIiv0C^:.P'ժ;Vk*\tP(~ SҺ0^jWBW,=ǡ!MPJQH9h?يG4w R+Җ;ֲ <(2co@+IZc]khyCvdzՖ.uHUn^];ކfhF"]MhKV)L?|~4eMhoh?33PQ?Se$hMz>Z?YHΪh2J`W1~ByMuQPT\cըqnzpS؂C S) XTm;qCz|%LqV6 q >O8Ku JZG"Mى}ˆhh|C;n S-r4 JQYXU.+ήFiEr5Fb9p&.uH- ɢEFC i P t7{KҋQ;J9 hLzI>Z>PXwx¡@/ln[::{À TGu%fωFyC^RNZ2)eR04&-:!%hڡ"oTݾlD{$džTs7U yH[۸ w|1WB3Q^Mo0:Ym?b:dxEKgDjX/G()dsݵ&)k#ƂNTi$7΋ „r[=>nv(Xtޭ(/f(!%$h78R:xxjjST7#œ_ncwؑ/Ć(Z{C%}E$YXXtcq[N U@i5h>AoȍZ酅6ad 1S D\p#7IHtV=oE'aFHTC[S2x[p[PY=1CAMi/8+ vRnam)"&fvcS; m' z!q~G~%PTuafЖ eLnD#YPoh,Z1 NvZ֨4;߭ l=BLj-0xsb+|N8IEԥm,$=ItLY9dYs[}iMGo%t 3;*ԃd컓5] d=Y2H:4 e4;,,A!?cA] WRhAŵp0Bߴ~D j/;Z8N\%ߦ"ȭ^~ Bò?FaW:iŨ'ޒg$'L E@f){ij~=A:~wHU 4^-?e66m%Y!uVbH ~[HPNAi*C9ì#+)m;:7Vc2F!]|HP~4f7%d! :іN%ނ;7wj ŔT–KvK%YET mT>ɂ6D=Ww9v@o2JXH<ثEHg;AW><șTh%Yj-z\՚$B h|Q-5p~jA6 hIʫngЭ&93V\K(]`or8I96eL@)dk FtwVR-E.}Rfisv'Tb3ЧOj7$kw/oNOv0B,:\ӚLy#'@Ooz?lHvI?Ji\:Ox'ERVc_YIiB.?<I:APbXğu E.XSj썑RƤ3$f!tBVI1% wfHt1g7-IdUPţ1bo7xV"\CIk!LUCV0 uN8.:YF5MRWI;"B'VaJ5b7Й2u)VOVRs 2":D #7" Ylt1lhDoZ_ۦ.Lq/o2J9; p?x|?|p{Op'5ykrRz' @hc1ÐD'9DN @DvXKfv4@ަ(?tShךzg% JOp\׿\]Im`^r`K*R598_T#1ƢU|3Ag]IvN8'F䨡#zNtf"%!C=8sc! B:C4sі|z/~>T^TYQtPAtnb}"Me(ud%%|GFjLZxH2߿ ދ~v:嗑d|Fl$ak'֩\ptNmTJv)rĻJD +Y0+FWK26H6M7jZHy`T. V0j"b*QWkT*܁Z$:\Atmgdkfg%+)gr>,# {s"Wl^`MP}qf 0g2hp&8 T|>H@Sʤ?;@! PHG)AψAgHRGYI=Ϲ 't@ϋ߈dMsسݿi9Fo AT M($ D! P}pQӝIJ$M_cIa"p $@)yeRG??N矋Nb^ܜы*O~αsg_S_mk3ڿe;NjY5tϰ/߯;~ѿ}} ={z?ZcEK: {=v}ew|hunoēV~pO}k7smmگ}Jk;lk_p®Q}g 5ʧׇ-Cټ让 ~R=~YWW@6v({&M;,\=rɖ?1pߊʟ< } v@SXj[;Xk9Y723؍G 5~|bފ G}طǽp=V2~'ͽv?ܹ޽Wۙ+'=<~qe ݊ک/9_tk[;_u_O|†s:o5Ol0=awnnwfU^tn㾺MOMsۂ}~ٛU1/NeAsK7Sio{}sj_TGkNsk7 옽Cir>eU= uiMM;ߖ{ɦM\9Gv蛏?Qлw5S['θ۫q˿.}y]u{s⋯nw|p8{ǎ7l|ݩi?mȁ,ڴ/+ahy/o7zހXtw+/>VO?t&zSw?w}o^Ű_~r@휝_Olo?)k` }3SN:tп~O|xp;ϽimY^?j~yw̪ elOۦw]c[k>a{ⷅ;g|lf>t= ˞ͺ~/&Tz+ΕF2NY͛y8Vm,8m#_`7l7'ջx{%ש,]wOs~Gg/%yzKo=XU~wtuEkfg)\w؅UvE_9O>صy۫}>5{O]F=e\|΍_uʜUh|e%uܒjۆ\DgwN5S?5kn8nڅ?c=.~Vi^B0:nʏ/j *o{W^yѫ\[xsWwn^{ovS}#_Mk]pw)QW6D\rϞ~6l+àn}n4u)ǔѣ_c=Wx *);W}o]K&\ =ӸmʌuGގsv3^㼹WW|y}ӧּqΝ?яw|㣏3-|y󫧙[Fk6~Iv9_VmU=>0SJ|g&Xu5$tn=jvyA17FՀO/,nԆ矪ߚ}73~הit>=|ੱŻO|_/[MvsߓqX[~@Qk8įb_[Pd߷wGcf=AWͦi}{+T[=|Ѱ-o4oX9':sX߫n.Oe'1_\ػۃ?h&\DY}yG͞PCO C1ZNg_|YIk5[9[vhQscVsG_tp^^rSr ,kY z׷Oa/Cr̐?Ea҆H|zUKKs 3P9l6 SW/={#swYhv4_։Դ#tϖwFm_|Īz1yWumO]۫=B.\nˠݞg:ʂ8|kș^NպpWYҐǦ95sVy>w ϏeOxx'-[f{aW;͇ ZxmxKs;F򔇶Xwo _/{!X]Y7ߪe[5Nw_r#|9{\Ю-L,UϺwSw}^ᣵ#Oq~NjqۖQ7ai.<]tB5gQg1%~K;#K9v$JT!6]q3w SH\A"y_'z+DnHzip7D&YjedԼ7`.sU $~d@vb|^23?ZU:tXw)W)? ;+úQ _1~ӒQ"lUm(t}1Q;#<AM+a[Sp"gR&5DĬxn͇WZJɉh`¢N(WZ[Kq~ an Dm"qbj^7FQ"z;]}g`*eGdlrE:lV(iQK]rx'tS=e6wy)l ǡ۾]ʼ gxC% {v e93aP=cH_'*"Vr[;a䈌Ӗrҷ<<릇*ORU|&օ~5*ۑm5\ۢlCYޕ VfcaZ嚗7'gb;QtQ u3F;5Ko+Ɣ ]oIZj{]>%Ij"%2:L|˱Wu`{O>_W=_@[l^Ϣud1V;)Jwzih(ưޯӭɐSR3$eF5\l_ >H2[6!_(z>[`JU'~V+>z_t.`HcP%G3/j=꘎ND{E$\qx; v=7 1ko?dZɉ({|B>|ր!:+ڵ=GmyJdRK1BႎvF@. ^D^.vjm<7k2L+\F9bg:x .GVEW)<H߸TA(hiEE:';#Tމ6m76KYJ%AtY2>(2agӟX-ONy9);G~"g F6n#yl‚6!񦰶CO냶B;t~[F64#̙xE5)HTI*|vm\DžBK?xx7\qYP3߲̞͝UGD(^&NmU52EֆS‹fz@f+Hq1Zܮ?eݺۜ .Z V)uz^"a.Fpzmf %.e08վ m' qѻ*\Т25DaA2K{{#M:^w,d vgWzm]g/ΞSMl[e+A< Ok^JpOD! poNZ r| ܖjӘd-͘,SW/mY9Kuwo_#*~2!?jP(.]\idU\ U%KvO_֠~{[eI-}*պA9A;uOQޜuf%?URM1OQWI˴1"Q/~HK:&7j0EKG8&9{EfLw>U? ۤ6+ũ_X TfSyKh[A 1,SI'0yl3)@Q(YtN\G7'r\b:x\/"wAA@kY^l<xwZv1,3Z3L&uyP䁂HUdYDEQ4YD|/Ϊ8#J3 Tf F'x^ ijo)h8I.?Zτd!E[51aZE -FgPPq2i2HXnD㒉"Gh;CnaIﷸ>oWH!玡 ,, Ig ѽqh!>'8d"v@lm 2֠R0sro̯y}C&7'w$p g8\b 焵w[GMF-iўy4'W9GMBf E0TVC%x6 :@B S)Bp΂Kp,0EA2Ds0)qCbk==B@>|qsbCFKb6ɱsFqbJZ_[Π.Vh#9^2K\D!HhJD3Nދ&V@Y.BA Zń$2 T}D"#3:h@ɂOB_d%J #\Jb$@ @E|MӘL2jA mBR 0]8%?g5Ͽ"=Q {I=d|Bs ̢1"dch (mMD><aŴbc iLkih4 N{"ݵUTTS(.A|tCjC y50i j>pl,.L D *`ƍ,[dX#7pOow]p/P41%5SIj(sCބύRUZ>L!\@ga%( ,°"J%T{m@l\՘HIނ{s4^-R*(9H#!23I8^_%~܀e@Ċ,%a=^Z@( $ZBQF`OeJ",޷6a&*Bq `{5v,}'n(ORR,n CmCKAxkNg\%(1%Gf" ^6L` Ty t g^$5"`WrU_UȒ2-;03X@t 6^Lk1%PXGA3ibTMnL1ւHd:8alA .+#l}.rbr+/ʨ•`Pp! B4*nUNBrʗBQe?Pph!@$l@K046@e9TZ(9`c޹;)H*兡Au2ݗR9(Á`67(x|ȹ)"Q^8JTIJVqhC!@`Z˜!# 23F!v"P^IT;?Ltq$LYq ] yD1rWJW7S1Vy1SV*ByySbD9U(DGD+ey?YV*"`O%h?'C >cj <2™ibT-%&j H՜ t @dF[ v.C-@%0IM4`JRô?UT,JH*һthTPo4t.f1@ˢzQ^PJTsY(˗+x~Θ^yAWFzdzTJw_ _  \+ \r]h$ * tQP# & `r^RTW`E-/#|T&MEؑ0 Dy'YV%Fؑ۩wgR&p]KxR+/DTJ^M*T=zP05*މXoC^RRNTHŤOP:O BH'ҽ@GJ:I'gB Z*!f`]l#0v? D5G $1$va#ŦtyUqȾ&KABqع`He吹a>1,iCyq(^NF9!OTp2bG&Ӡ&A/2e@ X1U~O~O*% ,(*qn<#Pbg~w*~w]ڋ|i[}r(enn 50C ,&Ì͌M-,L̆(0Jb@ AۑqU{uwu;z dc1Q ?0z9 آrk7_ cHkI_ǚz#iIo]9{11}DɩOqkVF4jIM6'OehƙW"h&35/#;9Ҧh"^7RͯytpDwXBhi  _ߵ9by!ޡSvU[<3˗LP9ad7LK3tܻйo__U}?[ a/T..T6dPc20;&aM{c>[nQ&=JJIFh|v/s=ry:%f % WeDOY]mb~p©hlǁm.vտwx>q3)=i~Ys%9hLԉ% &?G2,k_?R{Q=m̓[u4/{{Z]mZwg ^3!V!}L[I3.=\qXjfigZ؝"ZNH(is\dBrVdSM7-V}mGl|mk9uϵ<{43|okJYxb̒w.&lB-}s,2cգ3""<.:U0+T7eTYVAAwۚ2;fo7\]ĉW.t?O_"=Zh3]O[JRr/vW6gRrْv57w6a1Qݬ/!d{SG>, ԛ갥orwG3ItDbP3nQϽj( 3o[#mkٲMq+& U$h'޲o8w^輦MO ke#_imq6&R{;N7-ϳӾMqYv.';9-:U_/Mt)^]uuG?,Ti3\7xʍ~ۣ.gj,-{wouR&-g_v!uڵViW'(ϬjJ!}_{ B;{{͓5]5:ksAK w pOރ|u3v>l8]mWr!S2D-寮\{f~T_I%i6a a^n|}y̭d4.IN[U,8%Vw%3yHhFIohr!L6 ހttoX :*we;Iķ'o֫$¢ ;L{t7jӴae[ѸF-ZJ?eHY9&aEiu{Wc[ROSrjxSlWWMXzG?1G?,qC«[Mϛּ(9, >qcǶqơK|\ۙzzxsz:I5xUs],&V<-s|))j~K/3֭[OMgSdG;NAHcTcΣ5Fͭ*T6fuvK1e b/*l{JNS#'nvKo~H|ng_~ՃnRG6:Q~bK[[09#aXfEYt&Lu߶h屙zt~>ާ_ݺo z4 K,wSFK+B,Ƨw?{] nNޕOardannŅ;eR+-l86 ^H0s@z~3QO9bi3^ݓ;܊#uxY1/o_skR`xPkj8A9ڕ5gǏq>]Z#1r c߲>Dwߪ͝aH'/|^uk'ýfSW˗~VeHg&[GIdžK^{sgK7$x<畗diU_N[Qi'~m5 $7q8c>a۩{f79Ս'O>c?4 /oql}.ssesvse˽U!F:Hw/q%qKnxU+hD2Jj>Pr+˞N>]wpM$;{,g]\$$@DP]"BHM(bbŮzv*rQ9l g=&ϝdwgfg޼fȿӣݔw0QG+!ݻgٳゝCnd{wOy,ye16}]Ѽ5Լ սbdL4ps՝h؂Li^㍃ {߮?5T8;AԤ4y)_}s6ܼF7.(yݧwW͌YOhבǮ&=_NiT7ˉww/9Z\yhF+FYzS= nֱ+­K[E9^zyVL _[[kN=g7뼻MSFyw~h6zl;,G'o+`ۚ~X8~5>P[*IOz4վ匭wxEۍ{G ۟>Q-P]ǁg1[e~؁w st,τ"YOqa޵|ϙڔ6RؤgT?dnГgE@^YM=,HA.LMջMÉVjӿcf;Ç^y6Pkٯ?:#),5d]xm|pƊG %(^aX&4oހ_.Oغ{i~X]Rm _`{skq]uaz'Sqݧ}<|_y1:xN/`hΓ$ۿύ@#ޏسMs77FV b<`N+'N}8>Ƀ#m!bV/[nN[OSz>w?eew78r_PBvC.[zt?>̷rM}pLN֍?v1ޔFȔnsoh4͸f:̺-fq22y4<=lYkC"}ݣfjRZy4mo+^_7ym$GuhlavOlbv&}{Uwjb[me~?rRzsi+ͯhmMk&r66}nsƀy]1sv蘛z[iN#m}nxs1.ۼoۤzMؓp3c- n9Y2bSekZƜ?=rjÉ腶ЌNsE3{YCt{&f>z'=Ҷ]3dŝ{kn!?o{ev}l`_6<`)ޡg83{ϔ KI96o^k׼urFhynkαowo=fjM;mcq!j\mv^f\ިo&v.+'0鞅fܝ}rK󧴋V^=5fONz0^i@LylW\݄6u[mC (n{2;lLG.fql|ztYնN7~U8uTi?&\ڭt0jG;&gϓ n/Oh9qld`p}?]J[?6m'Os3fGxm_bР}An6O=A+IMmhqz^kp׉aE/^8p۾gSޠsKmY<¯ _':E3zU\|ݺ흻0Vh Nr qS~Xxٵlٲ Xio>ofgΘs` ;c\^sYa=.n羪sMsH޼d7=/;Rk9=|g渠+P" I/Oin޽o^>gV&;`^rߛaMƅܑOsG=eBCSR&gzOui@֙Iq~Q†M넃OyOs˕5( 5n)ꦱ`9Vm7Rv_hKͻEolß%s_4۷߾yyu{iB׮E-ʒfOJW/y76hBɴM-ڄMLQNo06q+ah@TbY z S)K{CSR_I/^}<1co-NGavfo}?sNFܼ2xfև"K6 l5ݠ>#mJc Դ^׬QFtI_=aDPF-?hjؾFO/IyI2'hOYlqy;7KV4m'N! 3hEY̒7*4f63xK\~cѡB6~zv...z?"'J?0#;'9~ӓ_ROWXYa5"n}rauЫKdsi5m4v-nk}ʲ5ҫ[ yNkj&vO懇'/_7{#A ٰyVl y\gNPƛ_ ݬLi& ya~ kڲٌ!CM's٩[S5KYnuHT܂ݻƜ`Oi|VmJƟhNНzvH=V.wi9Gu@>XFN]3KLZKN!+OwK`t2IQPMƮ~je4sk\.7e7{չ­V#E&ڈ/Rҷ5Yj{W- Lݢ[emm؍׆ʐqfc`On:+K&:yܩk׮t![i~ Wؿ߽V;f&\[ Wk0CZf%wo{=!gz[E+^=MJ4J+:M.5i0hA?W,yx_v.rc6+,Iz^ۥe kb3,߬G;-FtLH3Nԥc c7Ggza/wxrʢÇu^nWVi]c\bF$9LO2sһ-ד~C3k UzgW٥q*TYߐfͻ_͸W۞0P0sNXzʣ]k>  y6ߎ~lavtiX$2| v`vpu'nCZQwdS6lr5%%%*A=Pv szځVځ& nnpgŦMl yA|-[eh0%ttZ;Fٳ}ṅ`FЕ+X/jL://UP MIt86}y<[Mb7`q-nV2_Fʔl#RMQ bMl6: \]UBy{ Tb` B"&{ D2՗P4HLL'ҕXFÐ)Jh$dH =\k3!ZiB_R H LVTDLj$ ^ZD'RcoP-zz:G' iHR*]Dho@7xie oR#(AtX PTC#`39è]Wex2= _ %0Z`ja1+#1T8zSV$}R><7@8+H(YDDGXLf>HHVj>8MV>#Q$6G>HH">\*PXΠ:B4Jı_1yH2+WI1Љ$0?AA%/L6b\2d"Z} x+:))J cBCi"9? (CKk:/@B<.8ѓзȩňlְ[̫R[@ Z⩈QL΀4Wut*IEk-qC%ns$"y[Kg :IeYOh4/5W ~TAZy RqЭ Q|iJgi1{S&5"_̦yohrh/҈`j&xwp`%qt(MZWj.d7D\dR7HNP+("GD@!81 *G,Qz,v)( B 1"@>,%tEt2bſBSY hUi` Bb*-BĈ_j 1Gʤ.l/wK*(U&RT+Dzn:dZjJ%ӳ.u)& z;$*DzpN^-(,6^rQ8E;VpoC5/D @_1|X=|6658ԭOCP%[MB:"-߰Mҗ z=~CNqY7ނZF5K/J5Zj'f 1=`>-iV`,BWoWHH8V|\(*pcj^|̤dL>ǎ϶/!DѺ~bM]X<# HU I`nxIIKNRBJS27 sޙgQU1T24i 0.iZj1D+59@l񤴜~%Sjs|ŧ|{̭eiɴLǧU(|xl{P?x(FgX0HTmcT(#%h*S*9*5II2x(H Ӻ`hH)22N W`BT U+ t`h`ؓpVI J4LHOy By*@9.@1" "%C:C"B "BR 5*T!Ad06;XE6̱4($YU#WĀ *[{xO֖eWbnKe,aÉuiqXbQ"ME0.(QS)@+`~R&Vc$⻘318{ѭ ; f[`r.`2''U8e[ %hC(cŧ*u YC|gg2,rpe v-P^@\Ga[{:&!qQJt!m)$5bʚg+]"`&y_5|;R|? UR#Wj5tMߨDmAט?זKeUW{fOӮ, q ݂Rf:wEgރ3k f.˴7,A#G5"@Ce\uNu QȸC(ZQZyTB037BI+a:YL|[fs@%( "ʈZ(獡o'+çtG hmR)PzJ їZbX`DRE 'PjIFkZ$F "H 0#s 猒x{^N hPJ$8"L:e?_ Y %q Zi(-~OFC,yRfD9(,! )<4 Z PESU]GdJ1J܅X Ȟ(!(V4%:Iͪ7, 3jyLM  )IX7(NDYeȫWM?՜U6c3\"uqL#t7keE^~U>П2I_]\Uz+er.M-Ju<c7 !J)Vh/mnљ+_S_lI\u" d1+ |O` 俺JL6M_\:GY , ,5pv,D f"P}.Rd(M^ qK4x^f\^e! X) AqN+I%$u~US_?)MU/SPO`%-1Υ; CI!"8Yvr_86|$cW9@D Wwt)|HMQ !(];D ;$XS7 tx'W_V<bgX&ur B#dw2;YG7 K~'c߿T) EO ƇCA>䀌_-{q}Xxd/>{!&j=Տ_សƀ7 D1<#?őFq?ߍV.5F%;t'ö%uq}%@NI?'׺ny; $#__6"?g(y;y;MOD/̩ 0ý ԯ 0U#`@tY$>VF'%w&aFőNU^j?z蔹LӧT7XMr3ĶC&ˆ0hRG9!^V'q7(}7mD|(`Q 46K}8g`ށq$8J#zubW*Pv⿰vLQ ?A?H _@b?HǗ ?ǰ$ăՁ>*k90P- _10ߩi.Q|<?Ζ#uq}%b'G ]\fye0*/uU6Ð`wz[~bh5]` (+S5馅B+HYZKad" G&*،eLDgzMH-{e`n:sKI Xp)fҿ#5H]\\ z=e(O݈eeЪD+(N_@HG@ ꦛ4}@bY .FN*'{Q6Z,B8I M} * CZT\Nae+r:+u:P1,8Zq 3*a)fr=:-EHB Z1 M34OEXb&S0˖nKgxZ=5V*{#.VP"njE1Dx0d'ܘmx*tBb`2L/8'M`$|r$06r `ITqx8yz{!gk@'DgaKK~t1@b{&e@fBCGq{U剮 !?BxAIꅗ"HrX,S i-K-U-(0N_"'el|ĝZp)ésj[95pN^ƺLH 7K]mK]M$ܮ /c@JW$^Q%rwt}Tx͢3-iGcq)~?ܦ -шk$D4iLX-eU\C' "}X "&MIJ j`q&Fh/RHr*&t=1%uޖ+ 80Egѹt ACtΦAe!?Y#4÷Jj"K5@w1 P>-K%#^*&f/esDp J AFy7dR,b %1cjqx.ʀ>FaZ }4ZHjOg%H+3ZP逊"Al0 s.%@=VIxH!EqqZKɥSZ/~'ýr/QD'PZߐNt297*3y&Y<;;6W+3OxfecEpPW56}Ց#AԉR T-I 5b#ql\k<ԁ=?SDi|j !JMJcqvRPP@ju5*"2>/$JneTmSLߗЅ*@R1NkdwwaH 5r=UD֯R +}h/g疯/Sd|ق5jEPV9!e9k.y+/ѻNjU|_}*'PVD?9){ $$,86J>n{kN1>/]sQhr/)(}lƏZV; ?o)r"F4=硇CAB#P$mKů7HGH'Zr/nКgОzP{r;VP담0 e q)>~sIEpZẃ?a84 9_?}r,ę0YV~-v#LCz,H'''F㷤"ƌnK",4ahyYı=d-y1 q!xdFrK%/ڸLj6.n{ZR"ذ<%2/8kǙdVYku^Ϙ'8 vh>#9C>,Q-,d- zP>Zt8a0vT%Sv'\Mzg˛x` E_v$UW\tA)K:XRlnʊgWEJpoS_FKQ< ϦUH:ݰHeW'ъZ7,QL*r]I#$qw NHNחF4.]B ?TDַo+)%Y8 vp-&IWNœw(GVNKnPTC)\RBq^2(u_+YE8I%%k4FvH]i$˘;i׫!Gx,Q=8t2ۓ5_R#_Q8,k ·c[8}{TOapgD"S1)77_iO57\ Gs7Y\Qf=|v,bƳƁ 4r,eĢTP8\'IGvbFGh8<\r&dy'7a:KFΊjE*^&an(H>$-Rۗߦx"-G*cs-,*Qv%q^N_kw'}1EđL*&St9MpC!jI˾ם;J"WC21^8Gwsvq5Z4MReɣc=!uy呉O>q}p"x,4T]LFqo2,xL"S0 f=kA{[5IzhDa)b+w}˵! \P߂jsQsu%2jr-X%7mMΖ5q&G*[óY8 E_wlb"E, 5BܨEy~<ʛfg<@b뮓*N8R5pgWsG 0Y]FfRMkq,Sua3*Skx=t4~"Wz'Ɖ? 킑1+Fp,-"\_뿚j[|hNc;O=gyӻM39(8o{+*q{;m?{ru7,;oSj>鞨bƘߛհ w\jYeqJ'N*c1cLMLqK昽{䎫}JqXv|8챘1ؙSw2ws%ΒvԗYG|i]j0ˋF,G;| t 9;|;[|;Ī#e ^U韜:)5tNNH.b#xL'o.\i] Ŕ.cxgg4u)@,\U#6̗J5&iO³65Úa-~tX+;tx>}wQҏ.>wtDn 9}5DJaم [zø [pO΂ B4mwdNBxMV@@\fPvnv3fqČA(?FOc_uw4OGSs~u[]H'*@Fg5ՑzduMOiG??]^"ۯk V *IH\/uqw0 %4 2{˯Gx+޾ c4{;똠4U?;̩WkOo<sR-a=Kgt@"{:?#G6;[|xRww=ӛEXT8o q7cF7 /Ԛ]/t?]kU-X<~Fdb{u`Ql W/zszHɇ=WkL9{{>ҧ|-ҋrAofϽ@L7jexi}a3{K00#0v/{E;EoA{8b{{*;r%_ .+ \!A쵟^I-da!g-yб% |hX%-Ƨ7iS=QEW>U40J!}h)2n"I)ʡ( aiO=508W:H=^tK*XTDP)>- r-ėp>"h'RzkC &}_zcc^0湽əIj>_KBX`0&VmBa} gc,,+_:wԗ`~^'sW&*O$> r%xp?.XT9G3Fܸm"ɣ .`sk%]QGi=YJR/>^CI=M+Zf4'lUUȐЩ ;v,(_$fY,c MF8B]i ő0) _rPh(Vua$uLt?_Y# $oup8 $Ij~p[o,4vLp;s&81d>mɢڸ[Kݙ }%l?oWYLp@yt)ϳ+QCe$P)Ͽ]*j(|ۥ"4ܦԑ#˺_gbbI4bBB_+v-&ZZL(Y^=,d5Xm| k9 T^6XLC{'S.♫NO&ӓ"е8בHy̙ZKZrvu@'x߽:2SG+H%/WK{+ral彰J6W>&{e}| ܯ i?@ rxA;ϼh=<=IE늯I|!7D^#/=8SmLbibqIwʬl*GR#)Y({|k,KSeNS(a ,F9E/H ߀q=)[KPD1Bj]~_V >!P6 z7$߭?F [dzgFMT2Y~q`s=\iTgoi/faԮw"=sJy3sb=:{wB ~_Xp˱=%ُCcU1oo4*`$Uh V:=(L nONJ 0@OiK_Q@SI*YAQ~qP\9J].US)a=87'RFbKM$alI>:2?O( ?]E\Xw) %V`k5XKV?Gϴ*ZtT2Y~qo quhS0nD &b0H*r>2ݨ.`$zh -{۟`g&adzh2ْ5Kqm8Md\F_PJD*e` X??x>{vqP{EHJGS%.J[aB Db?@=!j!J =m ?lگ[􇰽+~D~;a ĀHV<D굱1 dbe_۩D y:Q_@#߾JD?`?ϩ+/V<`<DCh {ě}5 VcނsVGfmH`eMxNzTkǀu " p PVr (DP+i%23+dُ@(b) c%y?&`/s-htugi8…r }W?Fq'ݪ)/__Z'[W  ___e^/;kS_7/eE-x~Nz~m" >`鑁 &0xŁ7ij5X5X5XRR+EZ_E*Ҏǂ^/S ___y]>o4(jؐ ېp͕]o p΄y*)L),#75΂kvE3pSw #A'QΎ4GL;?xnU6:H;bI<{}f0Ts߹/YnRe{E5pv<4]S2`|킠TS[K@Vg]=Fހ.YQNjre|i#<Rqf!JE~,rV_{f=;O'oK 65h Oa~aH LEŵߍd~NrIӻ k[cN(y&jxJ kgXwKSr`!=$SHqφ $h@N "ܸۚ/;hL ~gY~rO(50x:G鰰ׯEY0!%1~%x\>+X>%/o?מv>%GBIQx-1{}G yhYpe7;&&;ngM0@F\ T[{j@%MN[h.of?FxO%WpIDyutt$%(p<{%U6T濊goTxBuȲ4O%uHb[  ebrX\ĭ/Y RU PXxjQ9G06=Ny\doȀPIZύFI 4DadP IΠa0Jtp$pV2Ik*=5ML~!\Νw}36{oC8ܓ^:2jdk] 3* L.m\k3x~9B'N#\ն|&娾зM{'5#Rn$/ 78> ٦wzSoEIKf:*R0fɱ?s)WtA[Eʞjs(._B\`rK&XU(R7W._&XB$TKj UlG _A*Yd-K4 .+,.~T2*ui3F.mzPﴊ8c~e_L-_Iʒ!=*OL{CۥPlu"-h`(Db0-,P] blz֖wuKU"#>菀菀菀X[(R`?#`?6qeNB<.&("T<@+?nuj7c]lj)`@ŀ}regAl`J(Ϭ#.*$߷:@G`?K4sth@f{dŶq] #kG?Px4`]ޫ8( c`{׈)A̢^ Bq\'UvK˴k_`pl`ono n7w蟎kP}[7x?v ,`o[VH6U = U^>>jA4<Ł7xH6>žH0"?ցǂ|PԐG?0?6\vQ= h@sM(sPpGpQ!6o!G9lAřanr Za$)dیg:V#8JҎk !0A B5 ځHK[$hoW+Lb;OAޏNj-Ɓ*7=5ВkcX`m(tamzFO&y|G45+lNE ,JcDG U5ܸ@ DjlDdm%*:htM+kC!uVaZB1$R+gIw/ozz״.*R@ԲZb":nْj& [AtvA8K;|M񴴊WgUtWJDf0YefM!HK?sz)ϡ״(pT\B UYu*CPd%otd_% =BG_) I i bQO߈7|O%*/nKj*KXr_a7 G%dS~q dc}]2+7:`"v.e+Ih/U骠$,"P"=OL{#W F%MJ7_79b2;S'y+A8C鴢9D_PhArM#"x5??xLG*=8`HJGF__AWQc>诀 诀 诀 诵E+`kc_xnXZ$2pzI "`s-"4Vw6a{ `_ȯxra ؔK y1` ;MŁWx+nwʊ*+֑e(u#_`/)!+xx<_۶&v `ZPWxuc@j\ XZ.-nɈ9E(5ZLYUA(bod[[)5ʀUM??XI7g`O5羭__HO7_]x|HP\kNeT'8U8pw:xϨD_ Q_ǂTD9@0L`??o/. rdӡ%J$w*88T8X7ԂHGŃM{cC#̙ߍUw #17N_U~@FY HK;OxxY?U52ftSIO\T58`s栚Ut+c(+v~\8m6 ЬZLRk7Yjt ΂T ZCVۋLz Iqu~EUD+]xEz.6Ux.5Fg_c̍l- _\Jajb7e`n(]ӖqM%.vq8 !Z1MyRT*=r>́߀>'>3;E, Ѝ?w3ad\Ț sB\6ό}m^-sRۘ<: JGJReVB E"F.6tYմ.T/-& %϶Bѵbj1 b&5[TԋMON @*Qջ:*n)\iݼB.i%*~1V0#uKZT=c;sO{udbdYm Yuc;Yo`'GluxDNߞN"!ck+>1|вu?Z"L/LR80II LR%6M~7ˡMYCT R1^@e\'=2=ohuKxV 1O 꿎>(pOF)i6=J?/po*Ҏ^7pnfpn&nכּpnﭹZ~o]*Sh_O{9wݞ)k2 Z-!. Łi^prJ8+|[# 40 %D?e* +CdAJ(۰@$@$7U,9"lQfŠQRǦTjJb$?B?*9{3V4RKrT[a \4GYa|/#pI '^B]^>o͉=~ꡉ3u\,^/.}>զIQ4eP+M,^0ۡ#/A$rBy>LDv$Da{Ȳ=!i  31gwM2#bfT-٬5ޟ_|F*?-UƤ] jxvbb%̦MAXYT:[jEL8$[dL0 7dRkqsd)ul u@0{op_`u y"xx+2]!#pj+QY&цh̰׀u^x&@qSx+ 1d`[NalXB< >=)Ȝ"]&MYbygOWoZkJ_\_T*S5.Uߐ_TFVsTZ RG,!ȵZ*#q:Ύʜu o6rX/y2&1̛E*EJKbåg s:5uϋ Ge vc#ߡZbYF_WDse0A>̜ޝ(MOytbMyOޣ機Ico%ӚQчeMGo7ŀnl{hh/hzd;-|pӳs0gb/ɞ)ٴ9X#Hk]<لiz'ٚQqdzY/,G$2 n?&.B8ڞ3{FŘ ‘"k|>#OBV눧<_޶O ω5$H?o̗HH יp?@C?9s۷[f7Rn?"䎜@FL}F9JI'<Iw>\8>8>tySH(*>'MW&E..2BO?|t ger#Z*4m8ml*up+$b\Hrt@l >bb ZIiܚ )i ,@)YFK܋.kZ:F%K'dY<ב k<Yf '^.\lVԟ' n%Is&s9@_*oEa[n67n\-[YY{up}ڧA'KhXUXıf]sY?W\@Vg\T[K=.[ Prt63;X \i\\zw_# ySU^;o֛Ξ^5Eihv4S9+i2l67zy&CXIX= lil)-==ncΔ)0WUe3fwV-M?n6KMj=A`TwQqsynsZ"jvu0hxsG&>F*Zvs>P i\?ykb7/]c=(0%2`JĔWs{H*֣ojݡRŨnO95f6QMl=OBVw[qYsZ"uM|rwJU,H¹Tݮ|D-Muy6uMk=B\wsVq~sZ"z|zje [ bT=od= l>p|jTam6Ef=Olbd-4+Lh|XQ!>՚; WeATUAŮbjh&.b p1ٜabg+n2e\6ܭΖB`5,@tu6YC||3VZݡah u׳k<u72n.zV^^!՚q4sw '=X1ׄmWޚ nzn6z6 m/M$pv~EU*Lkbw3b)b)v$0,]z@q65&Cmʯ ps~K]np bӚXՉٟ}Bς vU4y⬻7֭9-taٮ550rX&5./Jͦv7JtK>x.FO9h63ɵ7U*̤fd`x:̩>ɀ=?4z yysݮ jcҪh0':o:1zC,5q3k<Ԟ6Z7;9tWlfU9 j7a:=C1n6gLm=m`M.7&2Yb&nȵBCkWn[pMY&xVxVqy6[g==SwO]r}޴DTCҴNMNkc377#Su+`Lu7T\fLYCdL+rG1-1>keL?XS+Lɏ a[śap i<;e_MgONsZ& eԟtwNq?j#t_Sw4UE v{8Pa,=Y5~6wMo=G`aw]^dZ= m -DZCG<ט@+MWƖ3}p~ͩg1P7˲ٌR'yw)[eI#>L>b[f)/~TJ]TͭܵMU5`Q#+lrGyjͮF;Y] ,k,+hZjO%oc yT5>Cjt: PZ(MLkrwy(뺣kt!7Mj=wlؚiM,u.:|y@?9֪mHmOFlb#t"w7wxk pXSqݬ>WbDsy Y> c!ݨJC@FMYNsfOeiZx^9u tW:*ZGeu2-O'WG_;tj'4_`IAAW3szң&9;|Rǵ7$=~?:|_ڶ2wL]==X~_ڏh02g}?]#(PAGt=cvzĊڈkw>\bCq-駳_crbF sp$8J.cqYsoŧ/W?Lw0 KZa51?S{֐~pϢ/z'|:Ǎ)1_H)~!1jDSZݦ9_k.擛P[|/ "~5utL2x ^d43$c`9 V̢m*7e c/UDxlc9}B#q- M 7!od! ziIw>4&6.}x/abA7Oܯ W{:$D˜gs/џD A.D۰ мB3kx*E.;r19ɩ'o@zA#1;`[|0t." UY>-?`ބi]ϸVfl$/}3#‚4N#GB˙sEӽrM&!] [IsM$`)2" N>qA[ ά-r\oy"jҜW/8-OB 9[ZGt"5f0! wO|yRJftxff,N%Gs6%$Vէ[s=/ pkc\z'2zWrRSIuiϳQkQIJPxJ(<]*RgRAnsב#˺DPTHLㅹfP +&ULj2(OŦzXU.#15`WִWM$6 О!fg"ܓBQ{Fnt5IΠlca(Io|KLH.aҚJ` mӷ?_w{tgy?]ߌ[hC gIwH_1zd:jR +O MZO,|b^ QG.&гaFn:_*oXx(!xN3ע3.j[{KpTQۋ&ܑE+|k7Z?e|ظI#%<oO'xb\[Itv﷤ũA ϤNT5M_E*_X\,.NS38{U|o$.UbSz쿟љݻmc¢g&X)zqMSCG=4P)7cDW_IZ/UFx= /P UK|h[ .W3܉EaWJW/.S&we`N俕ǧpTӺ]VJA@Mp(0%M@r#*bP'!58+I_-z+XV󿊔G@m!L{џ@om״gA; ݭEbiq*PiEQC?&h[Ȓ@1DJ~~>bhsSEZqϫ#}+MY*2t '''3 X؟ ؟u㹘z`}gx%| [ݵڠ͉n@"ʱ h꽃b 7te$V$K:DgԑiF(?+I;b `?9FxFlG@Vlzw5V4gx@c= 澂c@zŽ!)r;*1`ibo2?'i*'2AtSZ2'%/mו% J?Xi6p<?:A=mݬܺ)忱js@z0>B('~AŁ7x4,-m|v}/2tCiGG aS 0L`ksFwˡ(уdMaFad#y-4o\ ٴg8!d{ L@g_vD58E&w~@F K;xfc:#; h0)LA` SPMoziKWEPv>_uf{9kvLݾ8>ݞ3Kj 2@A뻶5PUU*T neMr++Z/Jţ싡hݒ`rO+񾧬g4IپpyD[;13zڞ.`ќBgB{9Z'|.>\MCu]$e(i7{HD^'=a{52=tGKn,8KVA!v`j A Pga٨aW;*&%iGG X1 L`?Q}tuvQe (@qKq&+Q OiFi"ؼ|G;R.xl;BH AZx-