Package: recountWorkflow Version: 1.33.0 Command: /Library/Frameworks/R.framework/Resources/bin/R CMD INSTALL recountWorkflow StartedAt: 2025-10-28 13:00:45 -0400 (Tue, 28 Oct 2025) EndedAt: 2025-10-28 13:01:33 -0400 (Tue, 28 Oct 2025) EllapsedTime: 48.8 seconds RetCode: 0 Status: OK