Package: methylationArrayAnalysis Version: 1.33.1 Command: /Library/Frameworks/R.framework/Resources/bin/R CMD INSTALL methylationArrayAnalysis StartedAt: 2025-09-30 13:00:47 -0400 (Tue, 30 Sep 2025) EndedAt: 2025-09-30 13:03:27 -0400 (Tue, 30 Sep 2025) EllapsedTime: 160.2 seconds RetCode: 0 Status: OK