Package: maEndToEnd Version: 2.30.0 Command: /Library/Frameworks/R.framework/Resources/bin/R CMD INSTALL maEndToEnd StartedAt: 2025-11-04 13:01:48 -0500 (Tue, 04 Nov 2025) EndedAt: 2025-11-04 13:02:14 -0500 (Tue, 04 Nov 2025) EllapsedTime: 26.0 seconds RetCode: 0 Status: OK