Package: maEndToEnd Version: 2.30.0 Command: /Library/Frameworks/R.framework/Resources/bin/R CMD build --keep-empty-dirs --no-resave-data maEndToEnd StartedAt: 2025-11-04 13:05:48 -0500 (Tue, 04 Nov 2025) EndedAt: 2025-11-04 13:17:05 -0500 (Tue, 04 Nov 2025) EllapsedTime: 676.2 seconds RetCode: 0 Status: OK PackageFile: maEndToEnd_2.30.0.tar.gz PackageFileSize: 4.656 MiB