Package: liftOver Version: 1.33.1 Command: /home/biocbuild/bbs-3.22-bioc/R/bin/R CMD INSTALL liftOver StartedAt: 2025-10-21 13:00:57 -0400 (Tue, 21 Oct 2025) EndedAt: 2025-10-21 13:01:32 -0400 (Tue, 21 Oct 2025) EllapsedTime: 35.0 seconds RetCode: 0 Status: OK