Package: generegulation Version: 1.33.0 Command: /home/biocbuild/bbs-3.22-bioc/R/bin/R CMD INSTALL generegulation StartedAt: 2025-10-14 13:00:18 -0400 (Tue, 14 Oct 2025) EndedAt: 2025-10-14 13:00:57 -0400 (Tue, 14 Oct 2025) EllapsedTime: 39.3 seconds RetCode: 0 Status: OK