Package: arrays Version: 1.36.0 Command: /Library/Frameworks/R.framework/Resources/bin/R CMD INSTALL arrays StartedAt: 2025-11-25 13:00:22 -0500 (Tue, 25 Nov 2025) EndedAt: 2025-11-25 13:00:37 -0500 (Tue, 25 Nov 2025) EllapsedTime: 15.5 seconds RetCode: 0 Status: OK