Package: arrays Version: 1.36.0 Command: /Library/Frameworks/R.framework/Resources/bin/R CMD build --keep-empty-dirs --no-resave-data arrays StartedAt: 2025-11-25 13:10:05 -0500 (Tue, 25 Nov 2025) EndedAt: 2025-11-25 13:10:49 -0500 (Tue, 25 Nov 2025) EllapsedTime: 44.4 seconds RetCode: 0 Status: OK PackageFile: arrays_1.36.0.tar.gz PackageFileSize: 9.64 MiB