Package: annotation Version: 1.34.0 Command: /Library/Frameworks/R.framework/Resources/bin/R CMD INSTALL annotation StartedAt: 2025-11-04 13:01:57 -0500 (Tue, 04 Nov 2025) EndedAt: 2025-11-04 13:02:23 -0500 (Tue, 04 Nov 2025) EllapsedTime: 25.6 seconds RetCode: 0 Status: OK