Package: annotation Version: 1.34.0 Command: /Library/Frameworks/R.framework/Resources/bin/R CMD build --keep-empty-dirs --no-resave-data annotation StartedAt: 2025-11-04 13:04:44 -0500 (Tue, 04 Nov 2025) EndedAt: 2025-11-04 13:10:27 -0500 (Tue, 04 Nov 2025) EllapsedTime: 343.3 seconds RetCode: 0 Status: OK PackageFile: annotation_1.34.0.tar.gz PackageFileSize: 879.1 KiB