Package: SingscoreAMLMutations Version: 1.25.0 Command: /Library/Frameworks/R.framework/Resources/bin/R CMD build --keep-empty-dirs --no-resave-data SingscoreAMLMutations StartedAt: 2025-10-14 13:10:20 -0400 (Tue, 14 Oct 2025) EndedAt: 2025-10-14 13:15:11 -0400 (Tue, 14 Oct 2025) EllapsedTime: 291.0 seconds RetCode: 1 Status: ERROR PackageFile: None PackageFileSize: NA