Package: RnaSeqGeneEdgeRQL Version: 1.34.0 Command: /Library/Frameworks/R.framework/Resources/bin/R CMD INSTALL RnaSeqGeneEdgeRQL StartedAt: 2025-11-04 13:01:19 -0500 (Tue, 04 Nov 2025) EndedAt: 2025-11-04 13:01:27 -0500 (Tue, 04 Nov 2025) EllapsedTime: 8.1 seconds RetCode: 0 Status: OK