Package: RnaSeqGeneEdgeRQL Version: 1.34.0 Command: /Library/Frameworks/R.framework/Resources/bin/R CMD build --keep-empty-dirs --no-resave-data RnaSeqGeneEdgeRQL StartedAt: 2025-11-04 13:10:02 -0500 (Tue, 04 Nov 2025) EndedAt: 2025-11-04 13:11:11 -0500 (Tue, 04 Nov 2025) EllapsedTime: 69.5 seconds RetCode: 0 Status: OK PackageFile: RnaSeqGeneEdgeRQL_1.34.0.tar.gz PackageFileSize: 2.561 MiB