Package: RNAseq123 Version: 1.34.0 Command: /Library/Frameworks/R.framework/Resources/bin/R CMD INSTALL RNAseq123 StartedAt: 2025-11-04 13:01:58 -0500 (Tue, 04 Nov 2025) EndedAt: 2025-11-04 13:02:21 -0500 (Tue, 04 Nov 2025) EllapsedTime: 22.1 seconds RetCode: 0 Status: OK