Package: GeoMxWorkflows Version: 1.15.1 Command: /Library/Frameworks/R.framework/Resources/bin/R CMD INSTALL GeoMxWorkflows StartedAt: 2025-10-21 13:00:25 -0400 (Tue, 21 Oct 2025) EndedAt: 2025-10-21 13:00:39 -0400 (Tue, 21 Oct 2025) EllapsedTime: 14.2 seconds RetCode: 0 Status: OK