Package: GeoMxWorkflows Version: 1.15.1 Command: /Library/Frameworks/R.framework/Resources/bin/R CMD build --keep-empty-dirs --no-resave-data GeoMxWorkflows StartedAt: 2025-10-21 13:04:00 -0400 (Tue, 21 Oct 2025) EndedAt: 2025-10-21 13:28:48 -0400 (Tue, 21 Oct 2025) EllapsedTime: 1488.4 seconds RetCode: 0 Status: OK PackageFile: GeoMxWorkflows_1.15.1.tar.gz PackageFileSize: 23.31 MiB