Package: ExpHunterSuite Version: 1.17.0 Command: /Library/Frameworks/R.framework/Resources/bin/R CMD INSTALL ExpHunterSuite StartedAt: 2025-10-21 13:01:07 -0400 (Tue, 21 Oct 2025) EndedAt: 2025-10-21 13:02:05 -0400 (Tue, 21 Oct 2025) EllapsedTime: 57.8 seconds RetCode: 0 Status: OK