Package: ExpHunterSuite Version: 1.17.0 Command: /Library/Frameworks/R.framework/Resources/bin/R CMD build --keep-empty-dirs --no-resave-data ExpHunterSuite StartedAt: 2025-10-21 13:03:48 -0400 (Tue, 21 Oct 2025) EndedAt: 2025-10-21 13:07:40 -0400 (Tue, 21 Oct 2025) EllapsedTime: 231.9 seconds RetCode: 0 Status: OK PackageFile: ExpHunterSuite_1.17.0.tar.gz PackageFileSize: 4.112 MiB