Package: EGSEA123 Version: 1.33.0 Command: /home/biocbuild/bbs-3.22-bioc/R/bin/R CMD INSTALL EGSEA123 StartedAt: 2025-10-21 13:00:48 -0400 (Tue, 21 Oct 2025) EndedAt: 2025-10-21 13:01:22 -0400 (Tue, 21 Oct 2025) EllapsedTime: 33.9 seconds RetCode: 0 Status: OK