Package: EGSEA123 Version: 1.33.0 Command: /home/biocbuild/bbs-3.22-bioc/R/bin/R CMD build --keep-empty-dirs --no-resave-data EGSEA123 StartedAt: 2025-10-21 13:04:46 -0400 (Tue, 21 Oct 2025) EndedAt: 2025-10-21 13:10:41 -0400 (Tue, 21 Oct 2025) EllapsedTime: 355.1 seconds RetCode: 0 Status: OK PackageFile: EGSEA123_1.33.0.tar.gz PackageFileSize: 1.907 MiB