Package: BP4RNAseq Version: 1.19.0 Command: /home/biocbuild/bbs-3.22-bioc/R/bin/R CMD build --keep-empty-dirs --no-resave-data BP4RNAseq StartedAt: 2025-10-07 13:04:45 -0400 (Tue, 07 Oct 2025) EndedAt: 2025-10-07 13:04:56 -0400 (Tue, 07 Oct 2025) EllapsedTime: 11.0 seconds RetCode: 0 Status: OK PackageFile: BP4RNAseq_1.19.0.tar.gz PackageFileSize: 3.037 MiB