Package: zebrafishRNASeq Version: 1.30.0 Command: /home/biocbuild/bbs-3.22-bioc/R/bin/R CMD check --install=check:zebrafishRNASeq.install-out.txt --library=/home/biocbuild/bbs-3.22-bioc/R/site-library --timings zebrafishRNASeq_1.30.0.tar.gz StartedAt: 2025-11-13 13:26:24 -0500 (Thu, 13 Nov 2025) EndedAt: 2025-11-13 13:27:02 -0500 (Thu, 13 Nov 2025) EllapsedTime: 38.0 seconds RetCode: 0 Status: OK CheckDir: zebrafishRNASeq.Rcheck Warnings: 0