Package: yeastRNASeq Version: 0.47.0 Command: /home/biocbuild/bbs-3.22-bioc/R/bin/R CMD build --keep-empty-dirs --no-resave-data yeastRNASeq StartedAt: 2025-10-02 11:48:32 -0400 (Thu, 02 Oct 2025) EndedAt: 2025-10-02 11:49:17 -0400 (Thu, 02 Oct 2025) EllapsedTime: 44.5 seconds RetCode: 0 Status: OK PackageFile: yeastRNASeq_0.47.0.tar.gz PackageFileSize: 306.9 MiB