Package: yeastGSData Version: 0.48.0 Maintainer: R. Gentleman MaintainerEmail: rgentlem at fhcrc.org git_url: https://git.bioconductor.org/packages/yeastGSData git_branch: RELEASE_3_22 git_last_commit: e3700d6 git_last_commit_date: 2025-10-29 09:31:16 -0500 (Wed, 29 Oct 2025)