Package: yeastExpData Version: 0.55.0 Command: /home/biocbuild/bbs-3.22-bioc/R/bin/R CMD build --keep-empty-dirs --no-resave-data yeastExpData StartedAt: 2025-09-18 11:49:14 -0400 (Thu, 18 Sep 2025) EndedAt: 2025-09-18 11:49:22 -0400 (Thu, 18 Sep 2025) EllapsedTime: 8.2 seconds RetCode: 0 Status: OK PackageFile: yeastExpData_0.55.0.tar.gz PackageFileSize: 935 KiB