Package: yeastExpData Version: 0.56.0 Maintainer: R. Gentleman MaintainerEmail: rgentlem at fhcrc.org git_url: https://git.bioconductor.org/packages/yeastExpData git_branch: RELEASE_3_22 git_last_commit: fffb325 git_last_commit_date: 2025-10-29 09:30:43 -0400 (Wed, 29 Oct 2025)