Package: yeastCC Version: 1.49.0 Command: /home/biocbuild/bbs-3.22-bioc/R/bin/R CMD INSTALL yeastCC StartedAt: 2025-09-30 10:56:24 -0400 (Tue, 30 Sep 2025) EndedAt: 2025-09-30 10:56:28 -0400 (Tue, 30 Sep 2025) EllapsedTime: 4.2 seconds RetCode: 0 Status: OK