Package: xcoredata Version: 1.13.0 Command: /home/biocbuild/bbs-3.22-bioc/R/bin/R CMD INSTALL xcoredata StartedAt: 2025-09-25 10:57:21 -0400 (Thu, 25 Sep 2025) EndedAt: 2025-09-25 10:57:35 -0400 (Thu, 25 Sep 2025) EllapsedTime: 14.2 seconds RetCode: 0 Status: OK