Package: xcoredata Version: 1.13.0 Command: /home/biocbuild/bbs-3.22-bioc/R/bin/R CMD build --keep-empty-dirs --no-resave-data xcoredata StartedAt: 2025-09-25 11:47:11 -0400 (Thu, 25 Sep 2025) EndedAt: 2025-09-25 11:49:23 -0400 (Thu, 25 Sep 2025) EllapsedTime: 131.7 seconds RetCode: 0 Status: OK PackageFile: xcoredata_1.13.0.tar.gz PackageFileSize: 1.332 MiB