Package: vulcandata Version: 1.32.0 Maintainer: Federico M. Giorgi MaintainerEmail: federico.giorgi at gmail.com git_url: https://git.bioconductor.org/packages/vulcandata git_branch: RELEASE_3_22 git_last_commit: 41aa5dd git_last_commit_date: 2025-10-29 09:59:27 -0500 (Wed, 29 Oct 2025)