Package: tweeDEseqCountData Version: 1.48.0 Command: /home/biocbuild/bbs-3.22-bioc/R/bin/R CMD check --install=check:tweeDEseqCountData.install-out.txt --library=/home/biocbuild/bbs-3.22-bioc/R/site-library --timings tweeDEseqCountData_1.48.0.tar.gz StartedAt: 2025-11-04 13:09:59 -0500 (Tue, 04 Nov 2025) EndedAt: 2025-11-04 13:10:33 -0500 (Tue, 04 Nov 2025) EllapsedTime: 34.0 seconds RetCode: 0 Status: WARNINGS CheckDir: tweeDEseqCountData.Rcheck Warnings: 1