Package: tuberculosis Version: 1.15.0 Command: /home/biocbuild/bbs-3.22-bioc/R/bin/R CMD build --keep-empty-dirs --no-resave-data tuberculosis StartedAt: 2025-10-02 11:46:50 -0400 (Thu, 02 Oct 2025) EndedAt: 2025-10-02 11:48:02 -0400 (Thu, 02 Oct 2025) EllapsedTime: 72.0 seconds RetCode: 1 Status: ERROR PackageFile: None PackageFileSize: NA