Package: tofsimsData Version: 1.38.0 Maintainer: Lorenz Gerber MaintainerEmail: genfys at gmail.com git_url: https://git.bioconductor.org/packages/tofsimsData git_branch: RELEASE_3_22 git_last_commit: 0519797 git_last_commit_date: 2025-10-29 09:57:23 -0500 (Wed, 29 Oct 2025)