Package: tinesath1cdf Version: 1.48.0 Maintainer: Tine Casneuf MaintainerEmail: tine at ebi.ac.uk git_url: https://git.bioconductor.org/packages/tinesath1cdf git_branch: RELEASE_3_22 git_last_commit: f4c210d git_last_commit_date: 2025-10-29 09:31:12 -0500 (Wed, 29 Oct 2025)