Package: tartare Version: 1.23.0 Command: /home/biocbuild/bbs-3.22-bioc/R/bin/R CMD INSTALL tartare StartedAt: 2025-10-02 10:57:24 -0400 (Thu, 02 Oct 2025) EndedAt: 2025-10-02 10:57:37 -0400 (Thu, 02 Oct 2025) EllapsedTime: 12.7 seconds RetCode: 0 Status: OK