Package: stemHypoxia Version: 1.46.0 Maintainer: Cristobal Fresno MaintainerEmail: cristobalfresno at gmail.com git_url: https://git.bioconductor.org/packages/stemHypoxia git_branch: RELEASE_3_22 git_last_commit: 4100dd4 git_last_commit_date: 2025-10-29 09:33:36 -0500 (Wed, 29 Oct 2025)