Package: spatialLIBD Version: 1.21.6 Command: /home/biocbuild/bbs-3.22-bioc/R/bin/R CMD check --install=check:spatialLIBD.install-out.txt --library=/home/biocbuild/bbs-3.22-bioc/R/site-library --timings spatialLIBD_1.21.6.tar.gz StartedAt: 2025-09-30 13:05:57 -0400 (Tue, 30 Sep 2025) EndedAt: 2025-09-30 13:27:18 -0400 (Tue, 30 Sep 2025) EllapsedTime: 1280.2 seconds RetCode: 0 Status: OK CheckDir: spatialLIBD.Rcheck Warnings: 0