Package: simpIntLists Version: 1.46.0 Command: /home/biocbuild/bbs-3.22-bioc/R/bin/R CMD check --install=check:simpIntLists.install-out.txt --library=/home/biocbuild/bbs-3.22-bioc/R/site-library --timings simpIntLists_1.46.0.tar.gz StartedAt: 2025-11-04 12:57:20 -0500 (Tue, 04 Nov 2025) EndedAt: 2025-11-04 12:58:13 -0500 (Tue, 04 Nov 2025) EllapsedTime: 52.7 seconds RetCode: 0 Status: WARNINGS CheckDir: simpIntLists.Rcheck Warnings: 1