Package: signatureSearchData Version: 1.23.0 Command: /home/biocbuild/bbs-3.22-bioc/R/bin/R CMD check --install=check:signatureSearchData.install-out.txt --library=/home/biocbuild/bbs-3.22-bioc/R/site-library --timings signatureSearchData_1.23.0.tar.gz StartedAt: 2025-10-28 13:03:22 -0400 (Tue, 28 Oct 2025) EndedAt: 2025-10-28 13:04:23 -0400 (Tue, 28 Oct 2025) EllapsedTime: 60.4 seconds RetCode: 0 Status: OK CheckDir: signatureSearchData.Rcheck Warnings: 0