Package: sesameData Version: 1.28.0 Maintainer: Wanding Zhou MaintainerEmail: zhouwanding at gmail.com git_url: https://git.bioconductor.org/packages/sesameData git_branch: RELEASE_3_22 git_last_commit: 851657b git_last_commit_date: 2025-10-29 10:00:22 -0500 (Wed, 29 Oct 2025)