Package: seq2pathway.data Version: 1.42.0 Command: /home/biocbuild/bbs-3.22-bioc/R/bin/R CMD build --keep-empty-dirs --no-resave-data seq2pathway.data StartedAt: 2025-10-30 11:52:25 -0400 (Thu, 30 Oct 2025) EndedAt: 2025-10-30 11:53:51 -0400 (Thu, 30 Oct 2025) EllapsedTime: 85.6 seconds RetCode: 0 Status: OK PackageFile: seq2pathway.data_1.42.0.tar.gz PackageFileSize: 97.22 MiB