Package: scTHI.data Version: 1.21.0 Command: /home/biocbuild/bbs-3.22-bioc/R/bin/R CMD build --keep-empty-dirs --no-resave-data scTHI.data StartedAt: 2025-10-14 11:41:51 -0400 (Tue, 14 Oct 2025) EndedAt: 2025-10-14 11:41:59 -0400 (Tue, 14 Oct 2025) EllapsedTime: 8.3 seconds RetCode: 0 Status: OK PackageFile: scTHI.data_1.21.0.tar.gz PackageFileSize: 24.17 MiB