Package: scRNAseq Version: 2.23.1 Command: /home/biocbuild/bbs-3.22-bioc/R/bin/R CMD check --install=check:scRNAseq.install-out.txt --library=/home/biocbuild/bbs-3.22-bioc/R/site-library --timings scRNAseq_2.23.1.tar.gz StartedAt: 2025-10-23 13:02:02 -0400 (Thu, 23 Oct 2025) EndedAt: 2025-10-23 13:17:17 -0400 (Thu, 23 Oct 2025) EllapsedTime: 914.3 seconds RetCode: 0 Status: OK CheckDir: scRNAseq.Rcheck Warnings: 0