Package: scMultiome Version: 1.10.0 Maintainer: Xiaosai Yao MaintainerEmail: xiaosai.yao at gmail.com git_url: https://git.bioconductor.org/packages/scMultiome git_branch: RELEASE_3_22 git_last_commit: 26da406 git_last_commit_date: 2025-10-29 10:05:35 -0500 (Wed, 29 Oct 2025)